BEGIN:VCALENDAR
VERSION:2.0
PRODID:-//ChamberMaster//Event Calendar 2.0//EN
METHOD:PUBLISH
X-PUBLISHED-TTL:P3D
REFRESH-INTERVAL:P3D
CALSCALE:GREGORIAN
BEGIN:VEVENT
DTSTART:20151018T143000Z
DTEND:20151018T070000Z
X-MICROSOFT-CDO-ALLDAYEVENT:FALSE
SUMMARY:Making Strides Against Breast Cancer
DESCRIPTION:Making Strides Against Breast Cancer is a celebration of survivorship- an occasion to express hope and our shared determination to make this breast cancer's last century.\nJoin us for our 6th annual Making Strides Against Breast Cancer 5K Fundraising Walk
X-ALT-DESC;FMTTYPE=text/html:Making Strides Against Breast Cancer is a celebration of survivorship- an occasion to express hope and our shared determination to make this breast cancer's last century.\nJoin us for our 6th annual Making Strides Against Breast Cancer 5K Fundraising Walk
LOCATION:Gallo Center for the Arts 1000 I St Modesto\, CA 95354
UID:e.2695.1117
SEQUENCE:3
DTSTAMP:20260419T214756Z
URL:https://business.modchamber.org/events/details/making-strides-against-breast-cancer-10-18-2015-1117
END:VEVENT

END:VCALENDAR
