BEGIN:VCALENDAR
VERSION:2.0
PRODID:-//ChamberMaster//Event Calendar 2.0//EN
METHOD:PUBLISH
X-PUBLISHED-TTL:P3D
REFRESH-INTERVAL:P3D
CALSCALE:GREGORIAN
BEGIN:VEVENT
DTSTART:20160131T013000Z
DTEND:20160131T060000Z
X-MICROSOFT-CDO-ALLDAYEVENT:FALSE
SUMMARY:Make A Wish Wishmaker's Ball
DESCRIPTION:5:30 p.m. Cocktails & Raffle \n6:30 p.m. Dinner \n7:30 p.m. Program \n\nTickets - $150.00\n\nDoubleTree Hotel \n1150 Ninth Street \nModesto\, CA\n(Valet available – Black Tie optional)\nContact :	\nPhone :	916-437-0206\nEmail :	\nWeb Site :	www.makeawishsac.wix.com/wishmakersball
X-ALT-DESC;FMTTYPE=text/html:5:30 p.m. Cocktails & Raffle \n6:30 p.m. Dinner \n7:30 p.m. Program \n\nTickets - $150.00\n\nDoubleTree Hotel \n1150 Ninth Street \nModesto\, CA\n(Valet available – Black Tie optional)\nContact :	\nPhone :	916-437-0206\nEmail :	\nWeb Site :	www.makeawishsac.wix.com/wishmakersball
LOCATION:Doubletree Hotel 1150 9th Street Modesto\, CA 95354
UID:e.2695.649
SEQUENCE:3
DTSTAMP:20260419T175255Z
URL:https://business.modchamber.org/events/details/make-a-wish-wishmaker-s-ball-01-30-2016-649
END:VEVENT

END:VCALENDAR
