BEGIN:VCALENDAR
VERSION:2.0
PRODID:-//ChamberMaster//Event Calendar 2.0//EN
METHOD:PUBLISH
X-PUBLISHED-TTL:P3D
REFRESH-INTERVAL:P3D
CALSCALE:GREGORIAN
BEGIN:VEVENT
DTSTART:20160126T030000Z
DTEND:20160126T060000Z
X-MICROSOFT-CDO-ALLDAYEVENT:FALSE
SUMMARY:Magic Men LIVE!
DESCRIPTION:Introducing MAGIC MEN® LIVE! Experience the ladies night you've been waiting for like never before with a brand new\, high energy\, crowd interactive show that has captivated women of all ages! \n\nTickets: $24.99. $34.99 & $49.99\n\nTickets only available online.\nContact :	\nPhone :	\nEmail :	\nWeb Site :	www.magicmenlive.com
X-ALT-DESC;FMTTYPE=text/html:Introducing MAGIC MEN® LIVE! Experience the ladies night you've been waiting for like never before with a brand new\, high energy\, crowd interactive show that has captivated women of all ages! \n\nTickets: $24.99. $34.99 & $49.99\n\nTickets only available online.\nContact :	\nPhone :	\nEmail :	\nWeb Site :	www.magicmenlive.com
LOCATION:Centre Plaza 1000 L St Modesto\, CA 95354
UID:e.2695.648
SEQUENCE:3
DTSTAMP:20260419T174430Z
URL:https://business.modchamber.org/events/details/magic-men-live-01-25-2016-648
END:VEVENT

END:VCALENDAR
