BEGIN:VCALENDAR
VERSION:2.0
PRODID:-//ChamberMaster//Event Calendar 2.0//EN
METHOD:PUBLISH
X-PUBLISHED-TTL:P3D
REFRESH-INTERVAL:P3D
CALSCALE:GREGORIAN
BEGIN:VEVENT
DTSTART:20151031T030000Z
DTEND:20151030T070000Z
X-MICROSOFT-CDO-ALLDAYEVENT:FALSE
SUMMARY:MADE IN AMERICA:
DESCRIPTION:MADE IN AMERICA: WADE HAYES\, BRYAN WHITE & MARK WILLS!\n\nSerious country music fans are going to be amazed by this performance. Individually Wade Hayes\, Bryan White and Mark Wills have all had multiple #1 songs and many more Top 10 singles. But in this show\, they are all in the same band\, not three separate groups! So\, for example\, when Bryan is singing one of his hits\, Mark and Wade will back him up. This is a full band show that is going to bring the house down! \nContact :	Gallo Center\nPhone :	209-338-2100\nEmail :	\nWeb Site :	galloarts.org
X-ALT-DESC;FMTTYPE=text/html:MADE IN AMERICA: WADE HAYES\, BRYAN WHITE & MARK WILLS!\n\nSerious country music fans are going to be amazed by this performance. Individually Wade Hayes\, Bryan White and Mark Wills have all had multiple #1 songs and many more Top 10 singles. But in this show\, they are all in the same band\, not three separate groups! So\, for example\, when Bryan is singing one of his hits\, Mark and Wade will back him up. This is a full band show that is going to bring the house down! \nContact :	Gallo Center\nPhone :	209-338-2100\nEmail :	\nWeb Site :	galloarts.org
LOCATION:Gallo Center 1000 I St Modesto\, CA 95354
UID:e.2695.1250
SEQUENCE:3
DTSTAMP:20260419T214450Z
URL:https://business.modchamber.org/events/details/made-in-america-10-30-2015-1250
END:VEVENT

END:VCALENDAR
