BEGIN:VCALENDAR
VERSION:2.0
PRODID:-//ChamberMaster//Event Calendar 2.0//EN
METHOD:PUBLISH
X-PUBLISHED-TTL:P3D
REFRESH-INTERVAL:P3D
CALSCALE:GREGORIAN
BEGIN:VEVENT
DTSTART:20160124T010000Z
DTEND:20160123T080000Z
X-MICROSOFT-CDO-ALLDAYEVENT:FALSE
SUMMARY:M.P.P.A. Crab Cioppino Dinner/Dance
DESCRIPTION:Modesto Portuguese Pentecost Association (California Ballroom 432 6th Street\, Modesto) is having an all you can eat Crab Cioppino Dinner/Dance. \nDinner from 4PM thru 9PM\, includes delicious Crab Cioppino\, Salad\, Bread\, Wine or Soda.\nContact :	\nPhone :	209-505-3624\nEmail :	\nWeb Site :
X-ALT-DESC;FMTTYPE=text/html:Modesto Portuguese Pentecost Association (California Ballroom 432 6th Street\, Modesto) is having an all you can eat Crab Cioppino Dinner/Dance. \nDinner from 4PM thru 9PM\, includes delicious Crab Cioppino\, Salad\, Bread\, Wine or Soda.\nContact :	\nPhone :	209-505-3624\nEmail :	\nWeb Site :	
LOCATION:California Ballroom 432 6th St Modesto\, CA 95351
UID:e.2695.1424
SEQUENCE:3
DTSTAMP:20260419T191008Z
URL:https://business.modchamber.org/events/details/m-p-p-a-crab-cioppino-dinner-dance-01-23-2016-1424
END:VEVENT

END:VCALENDAR
