BEGIN:VCALENDAR
VERSION:2.0
PRODID:-//ChamberMaster//Event Calendar 2.0//EN
METHOD:PUBLISH
X-PUBLISHED-TTL:P3D
REFRESH-INTERVAL:P3D
CALSCALE:GREGORIAN
BEGIN:VEVENT
DTSTART:20160117T020000Z
DTEND:20160116T080000Z
X-MICROSOFT-CDO-ALLDAYEVENT:FALSE
SUMMARY:M.P.P.A. Annual Marinated Crab Feed Dinner/Dance -Modesto Portuguese Pentecost Association
DESCRIPTION:Modesto Portuguese Pentecost Association (California Ballroom 432 6th Street Modesto) is having an all you can eat Marinated Crab Feed Dinner/Dance. \nDinner from 6PM thru 9PM\, includes delicious Marinated Crab\, Pasta\, Salad\, Bread\, Wine or Soda. \n\n$45 tickets\nContact :	\nPhone :	209-505-3624\nEmail :	\nWeb Site :
X-ALT-DESC;FMTTYPE=text/html:Modesto Portuguese Pentecost Association (California Ballroom 432 6th Street Modesto) is having an all you can eat Marinated Crab Feed Dinner/Dance. \nDinner from 6PM thru 9PM\, includes delicious Marinated Crab\, Pasta\, Salad\, Bread\, Wine or Soda. \n\n$45 tickets\nContact :	\nPhone :	209-505-3624\nEmail :	\nWeb Site :	
LOCATION:California Ballroom 432 6th ST Modesto\, CA 95351
UID:e.2695.1342
SEQUENCE:3
DTSTAMP:20260419T175020Z
URL:https://business.modchamber.org/events/details/m-p-p-a-annual-marinated-crab-feed-dinner-dance-modesto-portuguese-pentecost-association-01-16-2016-1342
END:VEVENT

END:VCALENDAR
