BEGIN:VCALENDAR
VERSION:2.0
PRODID:-//ChamberMaster//Event Calendar 2.0//EN
METHOD:PUBLISH
X-PUBLISHED-TTL:P3D
REFRESH-INTERVAL:P3D
CALSCALE:GREGORIAN
BEGIN:VEVENT
DTSTART:20150418T163000Z
DTEND:20150418T173000Z
X-MICROSOFT-CDO-ALLDAYEVENT:FALSE
SUMMARY:Lyoness Shopping Clinic
DESCRIPTION:Free Lyoness Loyalty Card Shopping training this Saturday 4-18 at 1620 N Carpenter Rd Modesto Building D suite 43. The driveway is on the Blue Gum side of complex behind gas station from. Bring your phone\, laptop and log in info. Please message me to confirm your seat - only room for 30 people. If don't have a card come learn why Lyoness SME Loyalty Merchants - USA FREE Cash Back Card is Amazing!If your a business owner we 9\,767 Lyoness SME Loyalty Merchants - USA card members to bring to yourbusiness to shop as well.
X-ALT-DESC;FMTTYPE=text/html:Free Lyoness Loyalty Card Shopping training this Saturday 4-18 at 1620 N Carpenter Rd Modesto Building D suite 43. The driveway is on the Blue Gum side of complex behind gas station from. Bring your phone\, laptop and log in info. Please message me to confirm your seat - only room for 30 people. If don't have a card come learn why Lyoness SME Loyalty Merchants - USA FREE Cash Back Card is Amazing!If your a business owner we 9\,767 Lyoness SME Loyalty Merchants - USA card members to bring to yourbusiness to shop as well.
LOCATION:Clean and Pure Solutions 1620 Carpenter Rd Building D Suite 43 Modesto\, CA 95351
UID:e.2695.957
SEQUENCE:3
DTSTAMP:20260420T062925Z
URL:https://business.modchamber.org/events/details/lyoness-shopping-clinic-04-18-2015-957
END:VEVENT

END:VCALENDAR
