BEGIN:VCALENDAR
VERSION:2.0
PRODID:-//ChamberMaster//Event Calendar 2.0//EN
METHOD:PUBLISH
X-PUBLISHED-TTL:P3D
REFRESH-INTERVAL:P3D
CALSCALE:GREGORIAN
BEGIN:VEVENT
DTSTART:20150528T020000Z
DTEND:20150527T070000Z
X-MICROSOFT-CDO-ALLDAYEVENT:FALSE
SUMMARY:Lupita D'Alessio
DESCRIPTION:Lupita D’Alessio is a spectacular idol. She started her career in a show with her father Poncho D’Alessio on a Tijuana television station. In 1980 she was selected to perform the theme song of the telenovela of Televisa titled “Mundo de Juguete.” Lupita has collaborated in soap operas with top celebrities such as Susana Dosamante\, Erica Buenfil and Juan Ferrer\, among others. Her most recent single\, which includes 11 tracks entitled\, “Cuando se Ama como tu” is already among fans favorites.
X-ALT-DESC;FMTTYPE=text/html:Lupita D’Alessio is a spectacular idol. She started her career in a show with her father Poncho D’Alessio on a Tijuana television station. In 1980 she was selected to perform the theme song of the telenovela of Televisa titled “Mundo de Juguete.” Lupita has collaborated in soap operas with top celebrities such as Susana Dosamante\, Erica Buenfil and Juan Ferrer\, among others. Her most recent single\, which includes 11 tracks entitled\, “Cuando se Ama como tu” is already among fans favorites.
LOCATION:Gallo Center For The Arts 1000 I St Modesto\, CA 95354
UID:e.2695.967
SEQUENCE:3
DTSTAMP:20260420T045527Z
URL:https://business.modchamber.org/events/details/lupita-d-alessio-05-27-2015-967
END:VEVENT

END:VCALENDAR
