BEGIN:VCALENDAR
VERSION:2.0
PRODID:-//ChamberMaster//Event Calendar 2.0//EN
METHOD:PUBLISH
X-PUBLISHED-TTL:P3D
REFRESH-INTERVAL:P3D
CALSCALE:GREGORIAN
BEGIN:VEVENT
DTSTART:20140610T183000Z
DTEND:20140610T203000Z
X-MICROSOFT-CDO-ALLDAYEVENT:FALSE
SUMMARY:Lunch & Learn
DESCRIPTION:Cisco and Solid Networks are pleased to offer this Lunch and Learn to provide you with the latest developments in cloud\, video\, borderless networking\, collaboration\, and conferencing. Join SNI and Cisco technical experts for an in-depth discussion of the newest innovations\, products\, features\, and roadmaps that can help you develop strategies and deploy solutions that increase resiliency\, agility\,and productivity.
X-ALT-DESC;FMTTYPE=text/html:Cisco and Solid Networks are pleased to offer this Lunch and Learn to provide you with the latest developments in cloud\, video\, borderless networking\, collaboration\, and conferencing. Join SNI and Cisco technical experts for an in-depth discussion of the newest innovations\, products\, features\, and roadmaps that can help you develop strategies and deploy solutions that increase resiliency\, agility\,and productivity.
LOCATION:Solid Networks Headquarters 5686 Pirrone Rd Salida\, CA 95368
UID:e.2695.481
SEQUENCE:3
DTSTAMP:20260422T223416Z
URL:https://business.modchamber.org/events/details/lunch-learn-06-10-2014-481
END:VEVENT

END:VCALENDAR
