BEGIN:VCALENDAR
VERSION:2.0
PRODID:-//ChamberMaster//Event Calendar 2.0//EN
METHOD:PUBLISH
X-PUBLISHED-TTL:P3D
REFRESH-INTERVAL:P3D
CALSCALE:GREGORIAN
BEGIN:VEVENT
DTSTART:20150321T220000Z
DTEND:20150321T070000Z
X-MICROSOFT-CDO-ALLDAYEVENT:FALSE
SUMMARY:Luckyfest 2015
DESCRIPTION:The total of our twenty five refreshing establishments are bestowed with unique St. Patty’s themes. You may get arrested for various infractions like being too cute or having too cool a haircut at the Paddy Wagon. You’ll be paraded in front of the judge where you might be asked to stand for mug shots at the Lucky Fest Jail or sentenced to a few moments in the stockade! If you are feeling light hearted you might take a moment to enjoy a cocktail at St. Patrick’s Mustache Experience. It’s an exclusive club where only those with facial enhancements canenter. Are you clean shaven? We might have a surprise for you to gainaccess! At Daniel O’Connor’s Pandora’s BoxPub you can literally order shenanigans right off the menu. Be careful if you do find Pandora’s Box. You never know what could happen! A trip to Patty O’Flynn’s Comedy Shoppe will yield the best in stand up entertainment\, featuring some of the most talented comedians from throughout the country.\n\nThere truly is a little something for everyone at Lucky Fest\, whether it is traditionally bag pipe music from The Ripon Police and Fire Pipe Band\, country rap music at the Irish Chicken Coop\, dancing aboard Grace O’Malley’s Pirate Ship\,watching live acoustic artists at Peterson’s Pipe House\, or busting a move in the courtyard of our very own real life Irish Castle. Regardless of what you do this is a festival experience you won’t ever forget!\n\nTickets for the Lucky Fest are only $12 in advance and are available at www.luckyfestmodesto.com\nContact :	\nPhone :	209-524-1400\nEmail :	\nWeb Site :	www.luckyfestmodesto.co
X-ALT-DESC;FMTTYPE=text/html:	The total of our twenty five refreshing establishments are bestowed with unique St. Patty’s themes. You may get arrested for various infractions like being too cute or having too cool a haircut at the Paddy Wagon. You’ll be paraded in front of the judge where you might be asked to stand for mug shots at the Lucky Fest Jail or sentenced to a few moments in the stockade! If you are feeling light hearted you might take a moment to enjoy a cocktail at St. Patrick’s Mustache Experience. It’s an exclusive club where only those with facial enhancements canenter. Are you clean shaven? We might have a surprise for you to gainaccess! At Daniel O’Connor’s Pandora’s BoxPub you can literally order shenanigans right off the menu. Be careful if you do find Pandora’s Box. You never know what could happen! A trip to Patty O’Flynn’s Comedy Shoppe will yield the best in stand up entertainment\, featuring some of the most talented comedians from throughout the country.\n\nThere truly is a little something for everyone at Lucky Fest\, whether it is traditionally bag pipe music from The Ripon Police and Fire Pipe Band\, country rap music at the Irish Chicken Coop\, dancing aboard Grace O’Malley’s Pirate Ship\,watching live acoustic artists at Peterson’s Pipe House\, or busting a move in the courtyard of our very own real life Irish Castle. Regardless of what you do this is a festival experience you won’t ever forget!\n\nTickets for the Lucky Fest are only $12 in advance and are available at www.luckyfestmodesto.com\nContact :	\nPhone :	209-524-1400\nEmail :	\nWeb Site :	www.luckyfestmodesto.co
LOCATION:Centre Plaza 1000 L Street Modesto\, CA 95354
UID:e.2695.814
SEQUENCE:3
DTSTAMP:20260420T073758Z
URL:https://business.modchamber.org/events/details/luckyfest-2015-03-21-2015-814
END:VEVENT

END:VCALENDAR
