BEGIN:VCALENDAR
VERSION:2.0
PRODID:-//ChamberMaster//Event Calendar 2.0//EN
METHOD:PUBLISH
X-PUBLISHED-TTL:P3D
REFRESH-INTERVAL:P3D
CALSCALE:GREGORIAN
BEGIN:VEVENT
DTSTART:20150418T160000Z
DTEND:20150418T070000Z
X-MICROSOFT-CDO-ALLDAYEVENT:FALSE
SUMMARY:Love Modesto
DESCRIPTION:Love Modesto is a community wide service day that is helping to make a difference and impacting the lives of those that are disadvantaged\, disabled\, elderly\, and the forgotten. They partner with various organizations to help make Modesto a better place to live and to show love for the citizens of Modesto by creating projects to improve the way of life for those that are in need. For project information or volunteer opportunities\, please visit www.lovemodesto.com\nContact : 	\nPhone : 	\nEmail : 	\nWeb Site : 	www.lovemodesto.com
X-ALT-DESC;FMTTYPE=text/html:	Love Modesto is a community wide service day that is helping to make a difference and impacting the lives of those that are disadvantaged\, disabled\, elderly\, and the forgotten. They partner with various organizations to help make Modesto a better place to live and to show love for the citizens of Modesto by creating projects to improve the way of life for those that are in need. For project information or volunteer opportunities\, please visit www.lovemodesto.com\nContact : 	\nPhone : 	\nEmail : 	\nWeb Site : 	www.lovemodesto.com
LOCATION:Downtown Modesto I St Between 10th St 11th St Modesto\, CA 95354
UID:e.2695.875
SEQUENCE:3
DTSTAMP:20260420T062614Z
URL:https://business.modchamber.org/events/details/love-modesto-04-18-2015-875
END:VEVENT

END:VCALENDAR
