BEGIN:VCALENDAR
VERSION:2.0
PRODID:-//ChamberMaster//Event Calendar 2.0//EN
METHOD:PUBLISH
X-PUBLISHED-TTL:P3D
REFRESH-INTERVAL:P3D
CALSCALE:GREGORIAN
BEGIN:VEVENT
DTSTART:20150815T030000Z
DTEND:20150814T070000Z
X-MICROSOFT-CDO-ALLDAYEVENT:FALSE
SUMMARY:Los Tucanes De Tijuana
DESCRIPTION:LOS TUCANES DE TIJUANA has moved from 4/25/15 to 8/14/15 8pm because of a scheduling conflict. \n\nIf you have tickets for the April 25 show and you are able to attend on August 14\, the tickets you have will be honored. It is not necessary to exchange your tickets. However\, please call the Gallo Center ticket office at (209) 338-2100 or email tickets@galloarts.org to confirm your seats. \n\nIf you are unable to attend the August 14 performance\, you may:\n1) Exchange your tickets for another show\n2) Receive a gift certificate for the same value that you may apply to a future show\n\nFor any of the options above\, you must return your tickets to Gallo Center ticket office by April 30. Please keep in mind that if you choose an exchange\, we cannot assure you that tickets will be available at a later date. For questions or more information\, please call (209) 338-2100. \n\nWe greatly regret the inconvenience this has caused our patrons.\nGet ready for the fast-paced and energizing music of Norteño band Los Tucanes de Tijuana! These Latin Grammy Award winners have filled venues across the U.S. and Mexico\, including Dodger Stadium\, New York’s Central Park and Zocalo Plaza in Mexico City\, and now they’re going to fill the Gallo Center in April! Los Tucanes de Tijuanan has sold more than 13 million albums\, with numerous gold\, platinum and multiplatinum recordings. Among the band’s newest songs that fans love are “Soy Parrandero\,” "Soltero y Con Dinero\,” “Rehabilitado” and “365 Dias.”\n\n¡Prepárense para la música energética del grupo Norteño Los Tucanes de Tijuana! ¡Ganadores del Latin Grammy\, han llenado lugares a través de Los Estados Unidos y México\, incluyendo Dodger Stadium\, Central Park en Nueva York y el Zócalo en la Ciudad de México\, y ahora van a llenar el Gallo Center en Abril! Los Tucanes de Tijuana han vendido más de 13 millones de álbumes\, con varias grabaciones de oro\, platino y multiplatino. Entre las canciones nuevas del grupo que los fans adoran hay “Soy Parrandero\,” “Soltero y Con Dinero\,” “Rehabilitado” y “365 Días.”
X-ALT-DESC;FMTTYPE=text/html:LOS TUCANES DE TIJUANA has moved from 4/25/15 to 8/14/15 8pm because of a scheduling conflict. \n\nIf you have tickets for the April 25 show and you are able to attend on August 14\, the tickets you have will be honored. It is not necessary to exchange your tickets. However\, please call the Gallo Center ticket office at (209) 338-2100 or email tickets@galloarts.org to confirm your seats. \n\nIf you are unable to attend the August 14 performance\, you may:\n1) Exchange your tickets for another show\n2) Receive a gift certificate for the same value that you may apply to a future show\n\nFor any of the options above\, you must return your tickets to Gallo Center ticket office by April 30. Please keep in mind that if you choose an exchange\, we cannot assure you that tickets will be available at a later date. For questions or more information\, please call (209) 338-2100. \n\nWe greatly regret the inconvenience this has caused our patrons.\nGet ready for the fast-paced and energizing music of Norteño band Los Tucanes de Tijuana! These Latin Grammy Award winners have filled venues across the U.S. and Mexico\, including Dodger Stadium\, New York’s Central Park and Zocalo Plaza in Mexico City\, and now they’re going to fill the Gallo Center in April! Los Tucanes de Tijuanan has sold more than 13 million albums\, with numerous gold\, platinum and multiplatinum recordings. Among the band’s newest songs that fans love are “Soy Parrandero\,” "Soltero y Con Dinero\,” “Rehabilitado” and “365 Dias.”\n\n¡Prepárense para la música energética del grupo Norteño Los Tucanes de Tijuana! ¡Ganadores del Latin Grammy\, han llenado lugares a través de Los Estados Unidos y México\, incluyendo Dodger Stadium\, Central Park en Nueva York y el Zócalo en la Ciudad de México\, y ahora van a llenar el Gallo Center en Abril! Los Tucanes de Tijuana han vendido más de 13 millones de álbumes\, con varias grabaciones de oro\, platino y multiplatino. Entre las canciones nuevas del grupo que los fans adoran hay “Soy Parrandero\,” “Soltero y Con Dinero\,” “Rehabilitado” y “365 Días.” \n\n\n
LOCATION:Gallo Center 1000 I St Modesto\, CA 95354
UID:e.2695.1128
SEQUENCE:3
DTSTAMP:20260420T015430Z
URL:https://business.modchamber.org/events/details/los-tucanes-de-tijuana-08-14-2015-1128
END:VEVENT

END:VCALENDAR
