BEGIN:VCALENDAR
VERSION:2.0
PRODID:-//ChamberMaster//Event Calendar 2.0//EN
METHOD:PUBLISH
X-PUBLISHED-TTL:P3D
REFRESH-INTERVAL:P3D
CALSCALE:GREGORIAN
BEGIN:VEVENT
DTSTART:20160204T020000Z
DTEND:20160204T031500Z
X-MICROSOFT-CDO-ALLDAYEVENT:FALSE
SUMMARY:LNG Meeting
DESCRIPTION:Please join the LNG Communinty at a FREE networking group meeting. You will receive business tips like Become a Standout Business Brand is our topic. The primary focus of this group is to push customers back and forth to other local business in our community We meet every 2 weeks and we look forwardto bringing you more customers with our 11\,000+ Lyoness members!
X-ALT-DESC;FMTTYPE=text/html:Please join the LNG Communinty at a FREE networking group meeting. You will receive business tips like Become a Standout Business Brand is our topic. The primary focus of this group is to push customers back and forth to other local business in our community We meet every 2 weeks and we look forwardto bringing you more customers with our 11\,000+ Lyoness members!
LOCATION:Vintage Dental 2937 Veneman Ave Suite A-201 Modesto\, CA 95337
UID:e.2695.1533
SEQUENCE:3
DTSTAMP:20260419T174809Z
URL:https://business.modchamber.org/events/details/lng-meeting-02-03-2016-1533
END:VEVENT

END:VCALENDAR
