BEGIN:VCALENDAR
VERSION:2.0
PRODID:-//ChamberMaster//Event Calendar 2.0//EN
METHOD:PUBLISH
X-PUBLISHED-TTL:P3D
REFRESH-INTERVAL:P3D
CALSCALE:GREGORIAN
BEGIN:VEVENT
DTSTART:20160430T030000Z
DTEND:20160429T070000Z
X-MICROSOFT-CDO-ALLDAYEVENT:FALSE
SUMMARY:Livingston Taylor in concert-Uncle Lonny presents
DESCRIPTION:Doors at 7\; show at 8 p.m.\nLivingston Taylor picked up his first guitar at the age of 13\, recorded his first record at 18 and is still\, after 40 years\, performing\, songwriting and teaching. Known for his well-crafted\, introspective\, and original songs\, Livingston has earned avid listeners worldwide who know his lyrics from top-40 hits such as “I Will Be in Love with You\,” “I’ll Come Running\,” “I Can Dream of You” and “Boatman\,” the latter two recorded by his brother James. Livingston’s repertoire ranges from folk\, pop\, gospel and jazz to upbeat storytelling and touching ballads. He’s never stopped performing since his early coffeehouse days\, touring with major artists such as Linda Ronstadt\, Jimmy Buffett and Jethro Tull\, and he still maintains a busy concert schedule of over 80 shows a year. He is a natural performer\, peppering his shows with personal stories\, anecdotes and ineffable warmth that connect him to his fans. His relaxed on-stage presence belies the depth of his musical knowledge\, and fans might just as often be treated to a classic Gershwin or something from the best of Broadway.\nTickets are $22\, $28 and $32\nContact : 	State Theatre\nPhone : 	BOX OFFICE (209) 527-4697\nEmail : 	\nWeb Site : 	thestate.org
X-ALT-DESC;FMTTYPE=text/html:Doors at 7\; show at 8 p.m.\nLivingston Taylor picked up his first guitar at the age of 13\, recorded his first record at 18 and is still\, after 40 years\, performing\, songwriting and teaching. Known for his well-crafted\, introspective\, and original songs\, Livingston has earned avid listeners worldwide who know his lyrics from top-40 hits such as “I Will Be in Love with You\,” “I’ll Come Running\,” “I Can Dream of You” and “Boatman\,” the latter two recorded by his brother James. Livingston’s repertoire ranges from folk\, pop\, gospel and jazz to upbeat storytelling and touching ballads. He’s never stopped performing since his early coffeehouse days\, touring with major artists such as Linda Ronstadt\, Jimmy Buffett and Jethro Tull\, and he still maintains a busy concert schedule of over 80 shows a year. He is a natural performer\, peppering his shows with personal stories\, anecdotes and ineffable warmth that connect him to his fans. His relaxed on-stage presence belies the depth of his musical knowledge\, and fans might just as often be treated to a classic Gershwin or something from the best of Broadway.\nTickets are $22\, $28 and $32\nContact : 	State Theatre\nPhone : 	BOX OFFICE (209) 527-4697\nEmail : 	\nWeb Site : 	thestate.org
LOCATION:State Theatre 1307 J Street Modesto\, CA 95354
UID:e.2695.1629
SEQUENCE:3
DTSTAMP:20260419T141410Z
URL:https://business.modchamber.org/events/details/livingston-taylor-in-concert-uncle-lonny-presents-04-29-2016-1629
END:VEVENT

END:VCALENDAR
