BEGIN:VCALENDAR
VERSION:2.0
PRODID:-//ChamberMaster//Event Calendar 2.0//EN
METHOD:PUBLISH
X-PUBLISHED-TTL:P3D
REFRESH-INTERVAL:P3D
CALSCALE:GREGORIAN
BEGIN:VEVENT
DTSTART:20160227T040000Z
DTEND:20160226T080000Z
X-MICROSOFT-CDO-ALLDAYEVENT:FALSE
SUMMARY:Little River Band
DESCRIPTION:Little River Band was the first Australian band to successfully conquer foreign markets. Through the 70s and 80s the band was on the road extensively\, including international tours with Heart\, Boz Scaggs and the Doobie Brothers. Along the way they became the only act—from anywhere—to have a Top 10 U.S. single for six consecutive years. Little River Band has racked up worldwide sales of more than 30 million recordings\, with such hits as “Cool Change\,” Reminiscing\,” “Lady\,” “Take It Easy on Me\,” and “It’s a Long Way There.” \nContact :	Gallo Center\nPhone :	209-338-2100\nEmail :	\nWeb Site :	galloarts.org
X-ALT-DESC;FMTTYPE=text/html:Little River Band was the first Australian band to successfully conquer foreign markets. Through the 70s and 80s the band was on the road extensively\, including international tours with Heart\, Boz Scaggs and the Doobie Brothers. Along the way they became the only act—from anywhere—to have a Top 10 U.S. single for six consecutive years. Little River Band has racked up worldwide sales of more than 30 million recordings\, with such hits as “Cool Change\,” Reminiscing\,” “Lady\,” “Take It Easy on Me\,” and “It’s a Long Way There.” \nContact :	Gallo Center\nPhone :	209-338-2100\nEmail :	\nWeb Site :	galloarts.org
LOCATION:Gallo Center 1000 I Street Modesto\, CA 95354
UID:e.2695.1417
SEQUENCE:3
DTSTAMP:20260419T164442Z
URL:https://business.modchamber.org/events/details/little-river-band-02-26-2016-1417
END:VEVENT

END:VCALENDAR
