BEGIN:VCALENDAR
VERSION:2.0
PRODID:-//ChamberMaster//Event Calendar 2.0//EN
METHOD:PUBLISH
X-PUBLISHED-TTL:P3D
REFRESH-INTERVAL:P3D
CALSCALE:GREGORIAN
BEGIN:VEVENT
DTSTART:20151010T210000Z
DTEND:20151011T020000Z
X-MICROSOFT-CDO-ALLDAYEVENT:FALSE
SUMMARY:LION\, THE WITCH & THE WARDROBE
DESCRIPTION:Experience the magic of Narnia\, the land of talking animals and mythical creatures! From the acclaimed theatre company David Payne Drama\, it’s an award-winning stage adaptation of C. S. Lewis’ best-selling children’s book\, one of Time Magazine’s “All Time 100 Novels.” “The Lion\, the Witch and the Wardrobe” features special light and sound effects\, a magical set\, fabulous costumes\, and a cast of 15. It is truly a show the whole family will enjoy\, enchanting to children and adults alike.\nContact :	Gallo Center\nPhone :	209-338-2100\nEmail :	\nWeb Site :	galloarts.org
X-ALT-DESC;FMTTYPE=text/html:Experience the magic of Narnia\, the land of talking animals and mythical creatures! From the acclaimed theatre company David Payne Drama\, it’s an award-winning stage adaptation of C. S. Lewis’ best-selling children’s book\, one of Time Magazine’s “All Time 100 Novels.” “The Lion\, the Witch and the Wardrobe” features special light and sound effects\, a magical set\, fabulous costumes\, and a cast of 15. It is truly a show the whole family will enjoy\, enchanting to children and adults alike.\nContact :	Gallo Center\nPhone :	209-338-2100\nEmail :	\nWeb Site :	galloarts.org
LOCATION:Gallo Center 1000 I St Modesto\, CA 95354
UID:e.2695.1221
SEQUENCE:3
DTSTAMP:20260419T214633Z
URL:https://business.modchamber.org/events/details/lion-the-witch-the-wardrobe-10-10-2015-1221
END:VEVENT

END:VCALENDAR
