BEGIN:VCALENDAR
VERSION:2.0
PRODID:-//ChamberMaster//Event Calendar 2.0//EN
METHOD:PUBLISH
X-PUBLISHED-TTL:P3D
REFRESH-INTERVAL:P3D
CALSCALE:GREGORIAN
BEGIN:VEVENT
DTSTART:20150422T023000Z
DTEND:20150421T070000Z
X-MICROSOFT-CDO-ALLDAYEVENT:FALSE
SUMMARY:Lila Downs
DESCRIPTION:Every so often a voice emerges whose distinctive color\, texture\, and passionate conception defy easy characterization. Lila Downs possesses one such voice. Long a West Coast favorite\, during the past decade her national and international acclaim has spiraled upwards. The Mexican-American singer’s exotic beauty and startling versatility evoke the pulsing\, vibrant rhythms of her home country’s rich folk-music legacy. Many of Downs’ songs carry contemporary messages that promote respect for human rights and dignity\, particularly for Latin American women.\nContact : 	Gallo Center\nPhone : 	209-338-2100\nEmail : 	\nWeb Site : 	galloarts.org
X-ALT-DESC;FMTTYPE=text/html:	Every so often a voice emerges whose distinctive color\, texture\, and passionate conception defy easy characterization. Lila Downs possesses one such voice. Long a West Coast favorite\, during the past decade her national and international acclaim has spiraled upwards. The Mexican-American singer’s exotic beauty and startling versatility evoke the pulsing\, vibrant rhythms of her home country’s rich folk-music legacy. Many of Downs’ songs carry contemporary messages that promote respect for human rights and dignity\, particularly for Latin American women.\nContact : 	Gallo Center\nPhone : 	209-338-2100\nEmail : 	\nWeb Site : 	galloarts.org
LOCATION:Gallo Center 1000 I St Modesto\, CA 95354
UID:e.2695.883
SEQUENCE:3
DTSTAMP:20260420T062555Z
URL:https://business.modchamber.org/events/details/lila-downs-04-21-2015-883
END:VEVENT

END:VCALENDAR
