BEGIN:VCALENDAR
VERSION:2.0
PRODID:-//ChamberMaster//Event Calendar 2.0//EN
METHOD:PUBLISH
X-PUBLISHED-TTL:P3D
REFRESH-INTERVAL:P3D
CALSCALE:GREGORIAN
BEGIN:VEVENT
DTSTART:20140208T030000Z
DTEND:20140209T053000Z
X-MICROSOFT-CDO-ALLDAYEVENT:FALSE
SUMMARY:Let's Dance
DESCRIPTION:An evening of style\, featuring George Balanchine's Valse Fantaisie\, at Gallo Center for the Arts.
X-ALT-DESC;FMTTYPE=text/html:An evening of style\, featuring George Balanchine's Valse Fantaisie\, at Gallo Center for the Arts.
LOCATION:5039 Pentecost Dr. Modesto\, CA 95356
UID:e.2695.314
SEQUENCE:3
DTSTAMP:20260423T060322Z
URL:https://business.modchamber.org/events/details/let-s-dance-02-07-2014-314
END:VEVENT

END:VCALENDAR
