BEGIN:VCALENDAR
VERSION:2.0
PRODID:-//ChamberMaster//Event Calendar 2.0//EN
METHOD:PUBLISH
X-PUBLISHED-TTL:P3D
REFRESH-INTERVAL:P3D
CALSCALE:GREGORIAN
BEGIN:VEVENT
DTSTART:20150502T210000Z
DTEND:20150502T230000Z
X-MICROSOFT-CDO-ALLDAYEVENT:FALSE
SUMMARY:Lemonade Day Tasting Contest
DESCRIPTION:Want to sample the best Lemonade around? Why not attend our Best Tasting Contest?The Top 10 contestants will be selected by our Lemonade Day commitee to participate in the event. Judging is based on three criterias:Fresh Lemon FlavorBalance - Sweet to Sour ratio Mouth Feel ( texture) Prizes awarded to the Top 3 contestants!\nThis event is FREE to the public!
X-ALT-DESC;FMTTYPE=text/html:<P>Want to sample the best Lemonade around? Why not attend our Best Tasting Contest?</P><P>The Top 10 contestants will be selected by our Lemonade Day commitee to participate in the event. </P><P><FONT color=#ff0000><U><STRONG>Judging is based on three criterias:</STRONG></U></FONT></P><P><STRONG><FONT color=#ff8040>Fresh Lemon Flavor</FONT></STRONG></P><P><STRONG><FONT color=#ff8040>Balance - Sweet to Sour ratio </FONT></STRONG></P><P><STRONG><FONT color=#ff8040>Mouth Feel ( texture) </FONT></STRONG></P><P>Prizes awarded to the Top 3 contestants!<BR></P><P>This event is FREE to the public!</P>
LOCATION:Village Baking Company & Cafe 1700 McHenry Avenue\, Suite 18 Modesto\, CA 95350
UID:e.2695.1080
SEQUENCE:3
DTSTAMP:20260420T045500Z
URL:https://business.modchamber.org/events/details/lemonade-day-tasting-contest-05-02-2015-1080
END:VEVENT

END:VCALENDAR
