BEGIN:VCALENDAR
VERSION:2.0
PRODID:-//ChamberMaster//Event Calendar 2.0//EN
METHOD:PUBLISH
X-PUBLISHED-TTL:P3D
REFRESH-INTERVAL:P3D
CALSCALE:GREGORIAN
BEGIN:VEVENT
DTSTART:20141211T013000Z
DTEND:20141211T030000Z
X-MICROSOFT-CDO-ALLDAYEVENT:FALSE
SUMMARY:Lemonade Day Happy Hour - Village Baking Company
DESCRIPTION:Come and learn how you and or your business/organization can be involved with Lemonade Day! \n\nEnjoy yummy treats and beverages and bring your business cards for the raffle prize drawing!
X-ALT-DESC;FMTTYPE=text/html:<DIV style="FONT-FAMILY: Arial"><SPAN class=fsl>Come and learn how you and or your business/organization can be involved with Lemonade Day! <BR><BR>Enjoy yummy treats and beverages and bring your business cards for the raffle prize drawing!</SPAN></DIV>
LOCATION:Village Baking Company & Cafe 1700 McHenry Avenue\, Suite 18 Modesto\, CA 95350
UID:e.2695.603
SEQUENCE:3
DTSTAMP:20260422T134211Z
URL:https://business.modchamber.org/events/details/lemonade-day-happy-hour-village-baking-company-12-10-2014-603
END:VEVENT

END:VCALENDAR
