BEGIN:VCALENDAR
VERSION:2.0
PRODID:-//ChamberMaster//Event Calendar 2.0//EN
METHOD:PUBLISH
X-PUBLISHED-TTL:P3D
REFRESH-INTERVAL:P3D
CALSCALE:GREGORIAN
BEGIN:VEVENT
DTSTART:20141029T003000Z
DTEND:20141029T013000Z
X-MICROSOFT-CDO-ALLDAYEVENT:FALSE
SUMMARY:Lemonade Day Happy Hour - Data Path
DESCRIPTION:Come and learn how you and or your business/organization can be involved with Lemonade Day! \n\nEnjoy yummy treats and beverages and bring your business cards for the raffle prize drawing!
X-ALT-DESC;FMTTYPE=text/html:<DIV style="FONT-FAMILY: Arial"><SPAN class=fsl>Come and learn how you and or your business/organization can be involved with Lemonade Day! <BR><BR>Enjoy yummy treats and beverages and bring your business cards for the raffle prize drawing!</SPAN></DIV>
LOCATION:Data Path\, Inc. 318 McHenry Avenue Modesto\, CA 95354
UID:e.2695.587
SEQUENCE:3
DTSTAMP:20260422T175736Z
URL:https://business.modchamber.org/events/details/lemonade-day-happy-hour-data-path-10-28-2014-587
END:VEVENT

END:VCALENDAR
