BEGIN:VCALENDAR
VERSION:2.0
PRODID:-//ChamberMaster//Event Calendar 2.0//EN
METHOD:PUBLISH
X-PUBLISHED-TTL:P3D
REFRESH-INTERVAL:P3D
CALSCALE:GREGORIAN
BEGIN:VEVENT
DTSTART:20150411T180000Z
DTEND:20150411T200000Z
X-MICROSOFT-CDO-ALLDAYEVENT:FALSE
SUMMARY:Lemonade Day - Backpack pick up
DESCRIPTION:Registration and Backpack pick up event!  Come and join us at the Cafe Row in Vintage Fair Mall. We will be registering children for Lemonade Modesto\, a FREE event for the youth.  We will be passing out backpacks for those that have already registered for this event.
X-ALT-DESC;FMTTYPE=text/html:<DIV style="FONT-FAMILY: Arial">Registration and Backpack pick up event! </DIV><DIV style="FONT-FAMILY: Arial">&nbsp\;</DIV><DIV style="FONT-FAMILY: Arial">Come and&nbsp\;join us at the Cafe Row in Vintage Fair Mall. We will be registering children for Lemonade Modesto\, a FREE event for the youth. </DIV><DIV style="FONT-FAMILY: Arial">&nbsp\;</DIV><DIV style="FONT-FAMILY: Arial">We will be passing out backpacks for those that have already registered for this event. </DIV>
LOCATION:Cafe Row at Vintage Faire 3401 Dale Road Modesto\,
UID:e.2695.956
SEQUENCE:3
DTSTAMP:20260420T062747Z
URL:https://business.modchamber.org/events/details/lemonade-day-backpack-pick-up-04-11-2015-956
END:VEVENT

END:VCALENDAR
