BEGIN:VCALENDAR
VERSION:2.0
PRODID:-//ChamberMaster//Event Calendar 2.0//EN
METHOD:PUBLISH
X-PUBLISHED-TTL:P3D
REFRESH-INTERVAL:P3D
CALSCALE:GREGORIAN
BEGIN:VEVENT
DTSTART:20140926T003000Z
DTEND:20140926T023000Z
X-MICROSOFT-CDO-ALLDAYEVENT:FALSE
SUMMARY:Lemonade Day 2015 Launch Event
DESCRIPTION:Data Path\, Inc. will be hosting the Lemonade Day Modesto 2015 Kick-Off Event on September 25th at 5:30PM. There will be a brief presentation on the history of Lemonade Day\, our Modesto story for the past 3 years and adult and youth entrepreneur speakers.
X-ALT-DESC;FMTTYPE=text/html:Data Path\, Inc. will be hosting the Lemonade Day Modesto 2015 Kick-Off Event on September 25th at 5:30PM. There will be a brief presentation on the history of Lemonade Day\, our Modesto story for the past 3 years and adult and youth entrepreneur speakers.
LOCATION:Data Path\, Inc. 318 McHenry Ave. Modesto\, CA 95354
UID:e.2695.560
SEQUENCE:3
DTSTAMP:20260422T180506Z
URL:https://business.modchamber.org/events/details/lemonade-day-2015-launch-event-09-25-2014-560
END:VEVENT

END:VCALENDAR
