BEGIN:VCALENDAR
VERSION:2.0
PRODID:-//ChamberMaster//Event Calendar 2.0//EN
METHOD:PUBLISH
X-PUBLISHED-TTL:P3D
REFRESH-INTERVAL:P3D
CALSCALE:GREGORIAN
BEGIN:VEVENT
DTSTART:20150516T070000Z
DTEND:20150516T070000Z
X-MICROSOFT-CDO-ALLDAYEVENT:FALSE
SUMMARY:Lemonade Day 2015!
DESCRIPTION:Lemonade Day was launched by the Houston-based non-profit organization\, Prepared 4 Life in 2007. We are happy to say that Lemonade Day Modesto has been around since 2012 and reaching more kids each year! This free program for kids provides K-12 youth with the educational tools they need to start\, own and operate their very own lemonade stands. Youth learn how to create budgets\, secure investors\, select a site\, serve customers\, set profit-making goals\, repay investors\, and give back to the community. By starting their own business\, kids gain valuable entrepreneurial skills infused with life skills such as character development\, empowerment\, and financial freedom. Lemonade Day sets them on a path of financial learning and goal setting that can continue throughout their lives.**For more information contact Lunda Jost at http://www.modesto.lemonadeday.org/
X-ALT-DESC;FMTTYPE=text/html:<P>Lemonade Day was launched by the Houston-based non-profit organization\, Prepared 4 Life in 2007. We are happy to say that Lemonade Day Modesto has been around since 2012 and reaching more kids each year! This free program for kids provides K-12 youth with the educational tools they need to start\, own and operate their very own lemonade stands. Youth learn how to create budgets\, secure investors\, select a site\, serve customers\, set profit-making goals\, repay investors\, and give back to the community. By starting their own business\, kids gain valuable entrepreneurial skills infused with life skills such as character development\, empowerment\, and financial freedom. Lemonade Day sets them on a path of financial learning and goal setting that can continue throughout their lives.</P><P><FONT color=#ff0000>**For more information contact Lunda Jost at <A onmouseover='LinkshimAsyncLink.swap(this\, "http:\\/\\/www.modesto.lemonadeday.org\\/")\;' onclick='LinkshimAsyncLink.swap(this\, "http:\\/\\/l.facebook.com\\/l.php?u=http\\u00253A\\u00252F\\u00252Fwww.modesto.lemonadeday.org\\u00252F&amp\;h=hAQF0eQu4&amp\;s=1")\;' href="http://www.modesto.lemonadeday.org/" target=_blank rel="nofollow nofollow">http://www.modesto.lemonadeday.org/</A></FONT></P><P>&nbsp\;</P>
LOCATION:
UID:e.2695.533
SEQUENCE:3
DTSTAMP:20260420T045242Z
URL:https://business.modchamber.org/events/details/lemonade-day-2015-05-16-2015-533
END:VEVENT

END:VCALENDAR
