BEGIN:VCALENDAR
VERSION:2.0
PRODID:-//ChamberMaster//Event Calendar 2.0//EN
METHOD:PUBLISH
X-PUBLISHED-TTL:P3D
REFRESH-INTERVAL:P3D
CALSCALE:GREGORIAN
BEGIN:VEVENT
DTSTART:20160521T180000Z
DTEND:20160521T200000Z
X-MICROSOFT-CDO-ALLDAYEVENT:FALSE
SUMMARY:Lemonade Day
DESCRIPTION:Presented by Datapath and Center for Human Services\, Lemonade Day Modesto is a free\, city-wide educational program and event that teaches youth the entrepreneurial skills necessary to start\, own\, and operate their own business—a lemonade stand.\n\nThrough the provided educational materials and community workshops\, youth learn about how to start a business\, but just as important\, learn valuable life skills\, such as leadership\, collaboration\, responsibility\, and teamwork.\n\nYouth learn to set a goal\, make a plan\, and work their plan to achieve their dreams. In the process\, they experience a new level of confidence\, and some for the first time\, see new possibilities for their future.\n\nAfter registering and completing educational materials\, youth participants bring their stand and lemonade to sell at Lemonopolis – a city block in Downtown Modesto where our community comes to buy lemonade and support our young entrepreneurs.\nContact : 	\nPhone : 	\nEmail : 	\nWeb Site : 	www.lemonadedaymodesto.com
X-ALT-DESC;FMTTYPE=text/html:Presented by Datapath and Center for Human Services\, Lemonade Day Modesto is a free\, city-wide educational program and event that teaches youth the entrepreneurial skills necessary to start\, own\, and operate their own business—a lemonade stand.\n\nThrough the provided educational materials and community workshops\, youth learn about how to start a business\, but just as important\, learn valuable life skills\, such as leadership\, collaboration\, responsibility\, and teamwork.\n\nYouth learn to set a goal\, make a plan\, and work their plan to achieve their dreams. In the process\, they experience a new level of confidence\, and some for the first time\, see new possibilities for their future.\n\nAfter registering and completing educational materials\, youth participants bring their stand and lemonade to sell at Lemonopolis – a city block in Downtown Modesto where our community comes to buy lemonade and support our young entrepreneurs.\nContact : 	\nPhone : 	\nEmail : 	\nWeb Site : 	www.lemonadedaymodesto.com
LOCATION:Downtown Modesto 15tn Street between G & H Street Modesto\, CA 95354
UID:e.2695.1701
SEQUENCE:3
DTSTAMP:20260419T124558Z
URL:https://business.modchamber.org/events/details/lemonade-day-05-21-2016-1701
END:VEVENT

END:VCALENDAR
