BEGIN:VCALENDAR
VERSION:2.0
PRODID:-//ChamberMaster//Event Calendar 2.0//EN
METHOD:PUBLISH
X-PUBLISHED-TTL:P3D
REFRESH-INTERVAL:P3D
CALSCALE:GREGORIAN
BEGIN:VEVENT
DTSTART:20151017T023000Z
DTEND:20151016T070000Z
X-MICROSOFT-CDO-ALLDAYEVENT:FALSE
SUMMARY:LEGEND OF SLEEPY HOLLOW Central West Ballet
DESCRIPTION:Experience the Legend!\n\nThe Legend of Sleepy Hollow\, a new full length ballet premiering this October. Witness exuberant dancing\, colorful characters and one terrific horseman\, all set to live narration and original music. This is the Story of Ichabod Crane\, School Teacher and Dance Master\, a vibrant community and a legendary ghost. Don’t miss this thrilling American classic!\nContact :	Gallo Center\nPhone :	209-338-2100\nEmail :	\nWeb Site :	galloarts.org
X-ALT-DESC;FMTTYPE=text/html:Experience the Legend!\n\nThe Legend of Sleepy Hollow\, a new full length ballet premiering this October. Witness exuberant dancing\, colorful characters and one terrific horseman\, all set to live narration and original music. This is the Story of Ichabod Crane\, School Teacher and Dance Master\, a vibrant community and a legendary ghost. Don’t miss this thrilling American classic!\nContact :	Gallo Center\nPhone :	209-338-2100\nEmail :	\nWeb Site :	galloarts.org
LOCATION:
UID:e.2695.1228
SEQUENCE:3
DTSTAMP:20260419T214917Z
URL:https://business.modchamber.org/events/details/legend-of-sleepy-hollow-central-west-ballet-10-16-2015-1228
END:VEVENT

END:VCALENDAR
