BEGIN:VCALENDAR
VERSION:2.0
PRODID:-//ChamberMaster//Event Calendar 2.0//EN
METHOD:PUBLISH
X-PUBLISHED-TTL:P3D
REFRESH-INTERVAL:P3D
CALSCALE:GREGORIAN
BEGIN:VEVENT
DTSTART:20151018T023000Z
DTEND:20151017T070000Z
X-MICROSOFT-CDO-ALLDAYEVENT:FALSE
SUMMARY:LEGEND OF SLEEPY HOLLOW
DESCRIPTION:Experience the Legend!\n\nThe Legend of Sleepy Hollow\, a new full length ballet premiering this October. Witness exuberant dancing\, colorful characters and one terrific horseman\, all set to live narration and original music. This is the Story of Ichabod Crane\, School Teacher and Dance Master\, a vibrant community and a legendary ghost. Don’t miss this thrilling American classic!\nContact :	Gallo Center\nPhone :	209-338-2100\nEmail :	\nWeb Site :	galloarts.org
X-ALT-DESC;FMTTYPE=text/html:Experience the Legend!\n\nThe Legend of Sleepy Hollow\, a new full length ballet premiering this October. Witness exuberant dancing\, colorful characters and one terrific horseman\, all set to live narration and original music. This is the Story of Ichabod Crane\, School Teacher and Dance Master\, a vibrant community and a legendary ghost. Don’t miss this thrilling American classic!\nContact :	Gallo Center\nPhone :	209-338-2100\nEmail :	\nWeb Site :	galloarts.org
LOCATION:Gallo Center 1000 I St Modesto\, CA 95354
UID:e.2695.1233
SEQUENCE:3
DTSTAMP:20260419T214801Z
URL:https://business.modchamber.org/events/details/legend-of-sleepy-hollow-10-17-2015-1233
END:VEVENT

END:VCALENDAR
