BEGIN:VCALENDAR
VERSION:2.0
PRODID:-//ChamberMaster//Event Calendar 2.0//EN
METHOD:PUBLISH
X-PUBLISHED-TTL:P3D
REFRESH-INTERVAL:P3D
CALSCALE:GREGORIAN
BEGIN:VEVENT
DTSTART;VALUE=DATE:20150601
DTEND;VALUE=DATE:20150602
TRANSP:TRANSPARENT
X-MICROSOFT-CDO-ALLDAYEVENT:TRUE
SUMMARY:Learn to Swim Group Lessons
DESCRIPTION:We offer group and private swim lessons for members and non-members.  Call now for more information
X-ALT-DESC;FMTTYPE=text/html:We offer group and private swim lessons for members and non-members.  Call now for more information
LOCATION:Brenda Athletic Clubs 200 Norwegian Ave Modesto\, CA 95350
UID:e.2695.978
SEQUENCE:3
DTSTAMP:20260420T045341Z
URL:https://business.modchamber.org/events/details/learn-to-swim-group-lessons-06-01-2015-978
END:VEVENT

END:VCALENDAR
