BEGIN:VCALENDAR
VERSION:2.0
PRODID:-//ChamberMaster//Event Calendar 2.0//EN
METHOD:PUBLISH
X-PUBLISHED-TTL:P3D
REFRESH-INTERVAL:P3D
CALSCALE:GREGORIAN
BEGIN:VEVENT
DTSTART:20150715T150000Z
DTEND:20150902T000000Z
X-MICROSOFT-CDO-ALLDAYEVENT:FALSE
SUMMARY:Leadership Modesto Class of 2015-2016
DESCRIPTION:
X-ALT-DESC;FMTTYPE=text/html:
LOCATION:Modesto Chamber of Commerce 1114 J Street Modesto\, CA 95354
UID:e.2695.1174
SEQUENCE:3
DTSTAMP:20260419T231736Z
URL:https://business.modchamber.org/events/details/leadership-modesto-class-of-2015-2016-07-15-2015-1174
END:VEVENT

END:VCALENDAR
