BEGIN:VCALENDAR
VERSION:2.0
PRODID:-//ChamberMaster//Event Calendar 2.0//EN
METHOD:PUBLISH
X-PUBLISHED-TTL:P3D
REFRESH-INTERVAL:P3D
CALSCALE:GREGORIAN
BEGIN:VEVENT
DTSTART:20150508T150000Z
DTEND:20150508T223000Z
X-MICROSOFT-CDO-ALLDAYEVENT:FALSE
SUMMARY:Leadercast 2015 LIVE Simulcast - The Brave Ones
DESCRIPTION:Calling all Leaders - The Brave Ones\n\nJOIN US for an Exclusive LIVE One Day ONLY HD Simulcast Leadership conference. \n\n\nLeadercast is a one day leadership event broadcast LIVE in HD Simulcast from Atlanta\, GA directly to our community. \n\nBrave leaders disrupt industries through innovation\, stand in the face of opposition\, and embrace risk. Join a community inspired by those who demonstrate bravery and leave equipped to take on your next leadership challenge.\n\nFeatured Speakers in LIVE Simulcast:\n\n\n• Andy Stanley\, Leadership Author & Communicator\n• CMDR Rorke Denver\, Navy SEAL Commander & Author\n• Malala Yousafzai\, “Bravest Girl in the World” -CNN Live via Simulcast\n• Ed Catmull\, President of Pixar & Disney Animation Studios\n• Bill McDermott\, CEO of SAP AG\n• Seth Godin\, Innovative Thinker & Best-Selling Author\n• Aja Brown\, Mayor\, City of Compton\n• Rudy Giuliani\, 107th Mayor of New York City (1993-2001)\n• AND - Special Guest: Denver Bronco's Quarterback\, 5-Time MVP \n\n\n\n\nTop 5 Reasons to Attend: \n• Special LOCAL Guest Speaker - Business Q & A\n• An opportunity to gain insights from the best in leadership \n• Networking with local leaders \n• No expensive travel or hotel costs \n• Earn CE Credits*** / Professional attendees in: \n*** Human Resources Personnel \n*** Nursing Professionals\n\n\nHosted by: MainStreetChamber - TriCounty\n\n\nTICKET INFO: $79.00 EARLY BIRD $59.00 AT THE DOOR $99\nAdvanced ticket purchase advised \nIncludes continental breakfast\, lunch\, snacks and drinks\, plus more! \nhttps://www.xorbia.com/e/lc548/leadercast-msc\n\n\nWebsite: www.leaderstreet.org \nPlease visit website for more information. \nContact: 209-502-0429\nContact :	\nPhone :	209-502-0429
X-ALT-DESC;FMTTYPE=text/html:Calling all Leaders - The Brave Ones\n\nJOIN US for an Exclusive LIVE One Day ONLY HD Simulcast Leadership conference. \n\n\nLeadercast is a one day leadership event broadcast LIVE in HD Simulcast from Atlanta\, GA directly to our community. \n\nBrave leaders disrupt industries through innovation\, stand in the face of opposition\, and embrace risk. Join a community inspired by those who demonstrate bravery and leave equipped to take on your next leadership challenge.\n\nFeatured Speakers in LIVE Simulcast:\n\n\n• Andy Stanley\, Leadership Author & Communicator\n• CMDR Rorke Denver\, Navy SEAL Commander & Author\n• Malala Yousafzai\, “Bravest Girl in the World” -CNN Live via Simulcast\n• Ed Catmull\, President of Pixar & Disney Animation Studios\n• Bill McDermott\, CEO of SAP AG\n• Seth Godin\, Innovative Thinker & Best-Selling Author\n• Aja Brown\, Mayor\, City of Compton\n• Rudy Giuliani\, 107th Mayor of New York City (1993-2001)\n• AND - Special Guest: Denver Bronco's Quarterback\, 5-Time MVP \n\n\n\n\nTop 5 Reasons to Attend: \n• Special LOCAL Guest Speaker - Business Q & A\n• An opportunity to gain insights from the best in leadership \n• Networking with local leaders \n• No expensive travel or hotel costs \n• Earn CE Credits*** / Professional attendees in: \n*** Human Resources Personnel \n*** Nursing Professionals\n\n\nHosted by: MainStreetChamber - TriCounty\n\n\nTICKET INFO: $79.00 EARLY BIRD $59.00 AT THE DOOR $99\nAdvanced ticket purchase advised \nIncludes continental breakfast\, lunch\, snacks and drinks\, plus more! \nhttps://www.xorbia.com/e/lc548/leadercast-msc\n\n\nWebsite: www.leaderstreet.org \nPlease visit website for more information. \nContact: 209-502-0429\nContact :	\nPhone :	209-502-0429
LOCATION:Shelter Cove 4242 Coffee Rd Modesto\, CA 95356
UID:e.2695.924
SEQUENCE:3
DTSTAMP:20260420T045713Z
URL:https://business.modchamber.org/events/details/leadercast-2015-live-simulcast-the-brave-ones-05-08-2015-924
END:VEVENT

END:VCALENDAR
