BEGIN:VCALENDAR
VERSION:2.0
PRODID:-//ChamberMaster//Event Calendar 2.0//EN
METHOD:PUBLISH
X-PUBLISHED-TTL:P3D
REFRESH-INTERVAL:P3D
CALSCALE:GREGORIAN
BEGIN:VEVENT
DTSTART:20150603T003000Z
DTEND:20150603T040000Z
X-MICROSOFT-CDO-ALLDAYEVENT:FALSE
SUMMARY:LCR - ''LATINOS & THEIR CARS GRAFFITI NIGHT MIXER & NETWORKING OPPORTUNITY.''
DESCRIPTION:LATINO COMMUNITY ROUNDTABLEINVITES YOU TO THE “LATINOS & THEIR CARS GRAFFITI NIGHT MIXER & NETWORKING OPPORTUNITY” Join LCR and Cruise back to 1962 Where/Lugar: Red Event Center\, 921 8th St Modesto\, CA 95354RED EVENT CENTER “ANOTHER GRAND OPENING” Free Fun Event***Complementary Appetizers***No Host BarGifts and Prizes***DJ Music***Dance Contest --“How Low Can You Go” For more info contact Maggie Mejia (209) 303-2664 or maggiemejialcr@gmail.comChristina Rodrigues (209) 652-3745 or chicanitad@gmail.com http://lcrstan.org Date/Fecha: Tues\, June 2\, 2015 Time/Hora: 5:30p.m. – 9:00p.m.
X-ALT-DESC;FMTTYPE=text/html:<DIV style="FONT-FAMILY: Arial"><DIV style="BORDER-RIGHT: medium none\; PADDING-RIGHT: 0in\; BORDER-TOP: medium none\; PADDING-LEFT: 0in\; PADDING-BOTTOM: 1pt\; BORDER-LEFT: medium none\; PADDING-TOP: 0in\; BORDER-BOTTOM: windowtext 1pt solid\; mso-element: para-border-div\; mso-border-bottom-alt: solid windowtext .5pt"><P class=MsoNoSpacing style="BORDER-RIGHT: medium none\; PADDING-RIGHT: 0in\; BORDER-TOP: medium none\; PADDING-LEFT: 0in\; PADDING-BOTTOM: 0in\; MARGIN: 0in 0in 0pt\; BORDER-LEFT: medium none\; PADDING-TOP: 0in\; BORDER-BOTTOM: medium none\; TEXT-ALIGN: center\; mso-border-bottom-alt: solid windowtext .5pt\; mso-padding-alt: 0in 0in 1.0pt 0in" align=center><B style="mso-bidi-font-weight: normal"><SPAN style="FONT-SIZE: 28pt\; FONT-FAMILY: 'Tempus Sans ITC'\; mso-bidi-font-size: 11.0pt"><FONT face=Calibri>LATINO COMMUNITY ROUNDTABLE<?xml:namespace prefix = o ns = "urn:schemas-microsoft-com:office:office" /><o:p></o:p></FONT></SPAN></B></P><P class=MsoNoSpacing style="BORDER-RIGHT: medium none\; PADDING-RIGHT: 0in\; BORDER-TOP: medium none\; PADDING-LEFT: 0in\; PADDING-BOTTOM: 0in\; MARGIN: 0in 0in 0pt\; BORDER-LEFT: medium none\; PADDING-TOP: 0in\; BORDER-BOTTOM: medium none\; TEXT-ALIGN: center\; mso-border-bottom-alt: solid windowtext .5pt\; mso-padding-alt: 0in 0in 1.0pt 0in" align=center><B style="mso-bidi-font-weight: normal"><SPAN style="FONT-SIZE: 28pt\; FONT-FAMILY: 'Tempus Sans ITC'\; mso-bidi-font-size: 11.0pt"><FONT face=Calibri>INVITES YOU TO THE <o:p></o:p></FONT></SPAN></B></P><P class=MsoNoSpacing style="BORDER-RIGHT: medium none\; PADDING-RIGHT: 0in\; BORDER-TOP: medium none\; PADDING-LEFT: 0in\; PADDING-BOTTOM: 0in\; MARGIN: 0in 0in 0pt\; BORDER-LEFT: medium none\; PADDING-TOP: 0in\; BORDER-BOTTOM: medium none\; TEXT-ALIGN: center\; mso-border-bottom-alt: solid windowtext .5pt\; mso-padding-alt: 0in 0in 1.0pt 0in" align=center><B style="mso-bidi-font-weight: normal"><SPAN style="FONT-SIZE: 28pt\; FONT-FAMILY: 'Tempus Sans ITC'\; mso-bidi-font-size: 11.0pt"><FONT face=Calibri>“LATINOS &amp\; THEIR CARS <o:p></o:p></FONT></SPAN></B></P><P class=MsoNoSpacing style="BORDER-RIGHT: medium none\; PADDING-RIGHT: 0in\; BORDER-TOP: medium none\; PADDING-LEFT: 0in\; PADDING-BOTTOM: 0in\; MARGIN: 0in 0in 0pt\; BORDER-LEFT: medium none\; PADDING-TOP: 0in\; BORDER-BOTTOM: medium none\; TEXT-ALIGN: center\; mso-border-bottom-alt: solid windowtext .5pt\; mso-padding-alt: 0in 0in 1.0pt 0in" align=center><B style="mso-bidi-font-weight: normal"><SPAN style="FONT-SIZE: 28pt\; FONT-FAMILY: 'Tempus Sans ITC'\; mso-bidi-font-size: 11.0pt"><FONT face=Calibri>GRAFFITI NIGHT MIXER &amp\;<o:p></o:p></FONT></SPAN></B></P><P class=MsoNoSpacing style="BORDER-RIGHT: medium none\; PADDING-RIGHT: 0in\; BORDER-TOP: medium none\; PADDING-LEFT: 0in\; PADDING-BOTTOM: 0in\; MARGIN: 0in 0in 0pt\; BORDER-LEFT: medium none\; PADDING-TOP: 0in\; BORDER-BOTTOM: medium none\; TEXT-ALIGN: center\; mso-border-bottom-alt: solid windowtext .5pt\; mso-padding-alt: 0in 0in 1.0pt 0in" align=center><B style="mso-bidi-font-weight: normal"><SPAN style="FONT-SIZE: 28pt\; FONT-FAMILY: 'Tempus Sans ITC'\; mso-bidi-font-size: 11.0pt"><FONT face=Calibri><SPAN style="mso-spacerun: yes">&nbsp\;</SPAN>NETWORKING OPPORTUNITY”<o:p></o:p></FONT></SPAN></B></P></DIV><P class=MsoNoSpacing style="MARGIN: 0in 0in 0pt\; TEXT-ALIGN: center" align=center><SPAN style="FONT-SIZE: 14pt\; FONT-FAMILY: 'Tempus Sans ITC'\; mso-bidi-font-size: 11.0pt"><o:p><FONT face=Calibri>&nbsp\;</FONT></o:p></SPAN></P><P class=MsoNoSpacing style="MARGIN: 0in 0in 0pt\; TEXT-ALIGN: center\; tab-stops: 4.5pt" align=center><B style="mso-bidi-font-weight: normal"><SPAN style="FONT-SIZE: 18pt\; FONT-FAMILY: 'Tempus Sans ITC'\; mso-bidi-font-size: 11.0pt"><FONT face=Calibri>Join LCR and Cruise back to 1962<o:p></o:p></FONT></SPAN></B></P><P class=MsoNoSpacing style="MARGIN: 0in 0in 0pt\; TEXT-ALIGN: center" align=center><SPAN style="FONT-SIZE: 14pt\; FONT-FAMILY: 'Tempus Sans ITC'\; mso-bidi-font-size: 11.0pt"><?xml:namespace prefix = v ns = "urn:schemas-microsoft-com:vml" /><v:shapetype id=_x0000_t75 stroked="f" filled="f" path="m@4@5l@4@11@9@11@9@5xe" o:preferrelative="t" o:spt="75" coordsize="21600\,21600"><v:stroke joinstyle="miter"></v:stroke><v:formulas><v:f eqn="if lineDrawn pixelLineWidth 0"></v:f><v:f eqn="sum @0 1 0"></v:f><v:f eqn="sum 0 0 @1"></v:f><v:f eqn="prod @2 1 2"></v:f><v:f eqn="prod @3 21600 pixelWidth"></v:f><v:f eqn="prod @3 21600 pixelHeight"></v:f><v:f eqn="sum @0 0 1"></v:f><v:f eqn="prod @6 1 2"></v:f><v:f eqn="prod @7 21600 pixelWidth"></v:f><v:f eqn="sum @8 21600 0"></v:f><v:f eqn="prod @7 21600 pixelHeight"></v:f><v:f eqn="sum @10 21600 0"></v:f></v:formulas><v:path o:connecttype="rect" gradientshapeok="t" o:extrusionok="f"></v:path><o:lock aspectratio="t" v:ext="edit"></o:lock></v:shapetype><v:shape id=_x0000_i1025 style="WIDTH: 1in\; HEIGHT: 45pt" type="#_x0000_t75"><v:imagedata o:title="48a752b50aad21c63f5910e5988917d5[1]" src="file:///C:\\Users\\ADMINA~1\\AppData\\Local\\Temp\\msohtmlclip1\\01\\clip_image001.jpg"><FONT face=Calibri></FONT></v:imagedata></v:shape><v:shape id=_x0000_i1026 style="WIDTH: 1in\; HEIGHT: 45pt" type="#_x0000_t75"><v:imagedata o:title="48a752b50aad21c63f5910e5988917d5[1]" src="file:///C:\\Users\\ADMINA~1\\AppData\\Local\\Temp\\msohtmlclip1\\01\\clip_image001.jpg"><FONT face=Calibri></FONT></v:imagedata></v:shape><o:p></o:p></SPAN></P><P class=MsoNoSpacing style="MARGIN: 0in 0in 0pt\; TEXT-ALIGN: center" align=center><SPAN style="mso-no-proof: yes"><v:shape id=Picture_x0020_2 style="VISIBILITY: visible\; WIDTH: 369pt\; HEIGHT: 145.5pt" type="#_x0000_t75" alt="https://encrypted-tbn2.gstatic.com/images?q=tbn:ANd9GcQq8sWMxDI9S3sDqvM_5a7MQPNP_LWW4LhQnr0Pw6LsLSM8S1O6jQ" o:spid="_x0000_i1027"><v:imagedata o:title="" src="file:///C:\\Users\\ADMINA~1\\AppData\\Local\\Temp\\msohtmlclip1\\01\\clip_image003.jpg"><FONT face=Calibri></FONT></v:imagedata></v:shape></SPAN><SPAN style="FONT-SIZE: 14pt\; FONT-FAMILY: 'Tempus Sans ITC'\; mso-bidi-font-size: 11.0pt"><o:p></o:p></SPAN></P><P class=MsoNoSpacing style="MARGIN: 0in 0in 0pt\; TEXT-ALIGN: center" align=center><SPAN style="FONT-SIZE: 14pt\; FONT-FAMILY: 'Tempus Sans ITC'\; mso-bidi-font-size: 11.0pt"><o:p><FONT face=Calibri>&nbsp\;</FONT></o:p></SPAN></P><SPAN style="FONT-SIZE: 14pt\; FONT-FAMILY: 'Tempus Sans ITC'\; mso-bidi-font-size: 11.0pt"><o:p><FONT face=Calibri><P class=MsoNoSpacing style="MARGIN: 0in 0in 0pt\; TEXT-ALIGN: center" align=center><B style="mso-bidi-font-weight: normal"><SPAN style="FONT-SIZE: 16pt\; FONT-FAMILY: 'Tempus Sans ITC'\; mso-bidi-font-size: 11.0pt">Where/Lugar: <SPAN style="COLOR: red">Red Event Center</SPAN>\, </SPAN></B><v:shapetype id=_x0000_t75 stroked="f" filled="f" path="m@4@5l@4@11@9@11@9@5xe" o:preferrelative="t" o:spt="75" coordsize="21600\,21600"><v:stroke joinstyle="miter"></v:stroke><v:formulas><v:f eqn="if lineDrawn pixelLineWidth 0"></v:f><v:f eqn="sum @0 1 0"></v:f><v:f eqn="sum 0 0 @1"></v:f><v:f eqn="prod @2 1 2"></v:f><v:f eqn="prod @3 21600 pixelWidth"></v:f><v:f eqn="prod @3 21600 pixelHeight"></v:f><v:f eqn="sum @0 0 1"></v:f><v:f eqn="prod @6 1 2"></v:f><v:f eqn="prod @7 21600 pixelWidth"></v:f><v:f eqn="sum @8 21600 0"></v:f><v:f eqn="prod @7 21600 pixelHeight"></v:f><v:f eqn="sum @10 21600 0"></v:f></v:formulas><v:path o:connecttype="rect" gradientshapeok="t" o:extrusionok="f"></v:path><o:lock aspectratio="t" v:ext="edit"></o:lock></v:shapetype><v:shape id=Picture_x0020_1 style="MARGIN-TOP: 462.05pt\; Z-INDEX: -251658752\; LEFT: 0px\; VISIBILITY: visible\; MARGIN-LEFT: 29.45pt\; WIDTH: 64.15pt\; POSITION: absolute\; HEIGHT: 47.3pt\; TEXT-ALIGN: left\; mso-position-horizontal-relative: margin\; mso-position-vertical-relative: margin" type="#_x0000_t75" o:spid="_x0000_s1026"><v:imagedata o:title="" src="file:///C:\\Users\\ADMINA~1\\AppData\\Local\\Temp\\msohtmlclip1\\01\\clip_image001.png"></v:imagedata><?xml:namespace prefix = w ns = "urn:schemas-microsoft-com:office:word" /><w:wrap anchorx="margin" anchory="margin"></w:wrap></v:shape><B style="mso-bidi-font-weight: normal"><SPAN style="FONT-SIZE: 16pt\; FONT-FAMILY: 'Tempus Sans ITC'\; mso-bidi-font-size: 11.0pt">921 8th St Modesto\, CA 95354<o:p></o:p></SPAN></B></P><P class=MsoNoSpacing style="MARGIN: 0in 0in 0pt\; TEXT-ALIGN: center" align=center><B style="mso-bidi-font-weight: normal"><SPAN style="FONT-SIZE: 16pt\; COLOR: red\; FONT-FAMILY: 'Tempus Sans ITC'\; mso-bidi-font-size: 11.0pt">RED EVENT CENTER</SPAN></B><B style="mso-bidi-font-weight: normal"><SPAN style="FONT-SIZE: 16pt\; FONT-FAMILY: 'Tempus Sans ITC'\; mso-bidi-font-size: 11.0pt"> “ANOTHER GRAND OPENING”<o:p></o:p></SPAN></B></P><P class=MsoNoSpacing style="MARGIN: 0in 0in 0pt\; TEXT-ALIGN: center" align=center><B style="mso-bidi-font-weight: normal"><SPAN style="FONT-SIZE: 8pt\; FONT-FAMILY: 'Tempus Sans ITC'"><o:p>&nbsp\;</o:p></SPAN></B></P><P class=MsoNoSpacing style="MARGIN: 0in 0in 0pt\; TEXT-ALIGN: center" align=center><A name=_GoBack></A><B style="mso-bidi-font-weight: normal"><SPAN style="FONT-SIZE: 14pt\; FONT-FAMILY: 'Tempus Sans ITC'">Free Fun Event***Complementary Appetizers***No Host Bar<o:p></o:p></SPAN></B></P><P class=MsoNoSpacing style="MARGIN: 0in 0in 0pt\; TEXT-ALIGN: center" align=center><B style="mso-bidi-font-weight: normal"><SPAN style="FONT-SIZE: 14pt\; FONT-FAMILY: 'Tempus Sans ITC'">Gifts and Prizes***DJ Music***Dance Contest --“How Low Can You Go”<o:p></o:p></SPAN></B></P><P class=MsoNoSpacing style="MARGIN: 0in 0in 0pt\; TEXT-ALIGN: center" align=center><SPAN style="FONT-SIZE: 14pt\; FONT-FAMILY: 'Tempus Sans ITC'\; mso-bidi-font-size: 11.0pt"><o:p>&nbsp\;</o:p></SPAN></P><P class=MsoNoSpacing style="MARGIN: 0in 0in 0pt\; TEXT-ALIGN: center" align=center><B style="mso-bidi-font-weight: normal"><SPAN style="FONT-SIZE: 14pt\; FONT-FAMILY: 'Tempus Sans ITC'\; mso-bidi-font-size: 11.0pt">For more info contact Maggie Mejia (209) 303-2664 or <SPAN style="COLOR: #2f5496"><A href="mailto:maggiemejialcr@gmail.com"><SPAN style="COLOR: #2f5496"><FONT face="Times New Roman">maggiemejialcr@gmail.com</FONT></SPAN></A></SPAN><o:p></o:p></SPAN></B></P><P class=MsoNoSpacing style="MARGIN: 0in 0in 0pt\; TEXT-ALIGN: center" align=center><B style="mso-bidi-font-weight: normal"><SPAN style="FONT-SIZE: 14pt\; FONT-FAMILY: 'Tempus Sans ITC'\; mso-bidi-font-size: 11.0pt">Christina Rodrigues (209) 652-3745 or <U><SPAN style="COLOR: #2f5496">chicanitad@gmail.com</SPAN></U><o:p></o:p></SPAN></B></P><P class=MsoNoSpacing style="MARGIN: 0in 0in 0pt\; TEXT-ALIGN: center" align=center><B style="mso-bidi-font-weight: normal"><SPAN style="FONT-SIZE: 14pt\; FONT-FAMILY: 'Tempus Sans ITC'\; mso-bidi-font-size: 11.0pt"><SPAN style="mso-spacerun: yes">&nbsp\;</SPAN>http://lcrstan.org<o:p></o:p></SPAN></B></P><P class=MsoNoSpacing style="MARGIN: 0in 0in 0pt\; TEXT-ALIGN: center" align=center>&nbsp\;</FONT></o:p></SPAN></P><P class=MsoNoSpacing style="MARGIN: 0in 0in 0pt\; TEXT-ALIGN: center" align=center><B style="mso-bidi-font-weight: normal"><SPAN style="FONT-SIZE: 16pt\; FONT-FAMILY: 'Tempus Sans ITC'\; mso-bidi-font-size: 11.0pt"><FONT face=Calibri>Date/Fecha: Tues\, June 2\, 2015 </FONT></SPAN></B><B style="mso-bidi-font-weight: normal"><SPAN style="FONT-SIZE: 16pt\; FONT-FAMILY: 'Tempus Sans ITC'\; mso-bidi-font-size: 11.0pt"><FONT face=Calibri>Time/Hora: 5:30p.m. – 9:00p.m.<o:p></o:p></FONT></SPAN></B></P></DIV>
LOCATION:Red Center 921 8th Street Modesto\, CA
UID:e.2695.1109
SEQUENCE:3
DTSTAMP:20260420T032156Z
URL:https://business.modchamber.org/events/details/lcr-latinos-their-cars-graffiti-night-mixer-networking-opportunity-06-02-2015-1109
END:VEVENT

END:VCALENDAR
