BEGIN:VCALENDAR
VERSION:2.0
PRODID:-//ChamberMaster//Event Calendar 2.0//EN
METHOD:PUBLISH
X-PUBLISHED-TTL:P3D
REFRESH-INTERVAL:P3D
CALSCALE:GREGORIAN
BEGIN:VEVENT
DTSTART:20150701T183000Z
DTEND:20150701T203000Z
X-MICROSOFT-CDO-ALLDAYEVENT:FALSE
SUMMARY:LCR - Celebrating the 4th of July
DESCRIPTION:
X-ALT-DESC;FMTTYPE=text/html:
LOCATION:Red Event Center Bar & Grill 921 8th Street Modesto\, CA 95354
UID:e.2695.1141
SEQUENCE:3
DTSTAMP:20260420T032200Z
URL:https://business.modchamber.org/events/details/lcr-celebrating-the-4th-of-july-07-01-2015-1141
END:VEVENT

END:VCALENDAR
