BEGIN:VCALENDAR
VERSION:2.0
PRODID:-//ChamberMaster//Event Calendar 2.0//EN
METHOD:PUBLISH
X-PUBLISHED-TTL:P3D
REFRESH-INTERVAL:P3D
CALSCALE:GREGORIAN
BEGIN:VEVENT
DTSTART:20140907T170000Z
DTEND:20140908T010000Z
X-MICROSOFT-CDO-ALLDAYEVENT:FALSE
SUMMARY:Latino Community Roundtable - 2nd Festival del Nopal
DESCRIPTION:Please join us for our 2nd Annual Festival del Nopal on Sunday\, September 7\, 2014. Free Admission!  Market is open from 10:00am - 6:00pm and Program is 12:00pm - 6:00pm. For more information call 209-579-4776 or check out the website at www.festivaldelnopal.info
X-ALT-DESC;FMTTYPE=text/html:Please join us for our 2nd Annual Festival del Nopal on Sunday\, September 7\, 2014. Free Admission!  Market is open from 10:00am - 6:00pm and Program is 12:00pm - 6:00pm. For more information call 209-579-4776 or check out the website at www.festivaldelnopal.info
LOCATION:Ceres Drive-In Flea Market 1651 E. Whitemore Ave Ceres\, CA
UID:e.2695.547
SEQUENCE:3
DTSTAMP:20260422T180905Z
URL:https://business.modchamber.org/events/details/latino-community-roundtable-2nd-festival-del-nopal-09-07-2014-547
END:VEVENT

END:VCALENDAR
