BEGIN:VCALENDAR
VERSION:2.0
PRODID:-//ChamberMaster//Event Calendar 2.0//EN
METHOD:PUBLISH
X-PUBLISHED-TTL:P3D
REFRESH-INTERVAL:P3D
CALSCALE:GREGORIAN
BEGIN:VEVENT
DTSTART:20160325T023000Z
DTEND:20160324T070000Z
X-MICROSOFT-CDO-ALLDAYEVENT:FALSE
SUMMARY:KRISTIN CHENOWETH
DESCRIPTION:Emmy and Tony Award-winning actress and singer Kristin Chenoweth takes the lead in a career that spans film\, television\, voiceover and stage\, effortlessly. She is adored by Broadway lovers everywhere for her origination of the role of Glinda the Good Witch in “Wicked\,” which earned her a Tony Award nomination\, and her Tony-winning performance in “You’re A Good Man\, Charlie Brown\,” for which she stole the show and many hearts in the process. Her TV and film credits include “Glee\,” “Pushing Daisies\,” “Rio 2\,” “The Boy Next Door” and many more. And of course she routinely sells out concert halls across the country. The Gallo Center is soon to be added to that list.\nContact :	Gallo Center\nPhone :	209-338-2100\nEmail :	\nWeb Site :	galloarts.org
X-ALT-DESC;FMTTYPE=text/html:Emmy and Tony Award-winning actress and singer Kristin Chenoweth takes the lead in a career that spans film\, television\, voiceover and stage\, effortlessly. She is adored by Broadway lovers everywhere for her origination of the role of Glinda the Good Witch in “Wicked\,” which earned her a Tony Award nomination\, and her Tony-winning performance in “You’re A Good Man\, Charlie Brown\,” for which she stole the show and many hearts in the process. Her TV and film credits include “Glee\,” “Pushing Daisies\,” “Rio 2\,” “The Boy Next Door” and many more. And of course she routinely sells out concert halls across the country. The Gallo Center is soon to be added to that list.\nContact :	Gallo Center\nPhone :	209-338-2100\nEmail :	\nWeb Site :	galloarts.org
LOCATION:Gallo Center 1000 I Street Modesto\, CA 95354
UID:e.2695.1475
SEQUENCE:3
DTSTAMP:20260419T153131Z
URL:https://business.modchamber.org/events/details/kristin-chenoweth-03-24-2016-1475
END:VEVENT

END:VCALENDAR
