BEGIN:VCALENDAR
VERSION:2.0
PRODID:-//ChamberMaster//Event Calendar 2.0//EN
METHOD:PUBLISH
X-PUBLISHED-TTL:P3D
REFRESH-INTERVAL:P3D
CALSCALE:GREGORIAN
BEGIN:VEVENT
DTSTART:20150801T010000Z
DTEND:20150801T040000Z
X-MICROSOFT-CDO-ALLDAYEVENT:FALSE
SUMMARY:Kids Fun Night/Parents Date Night
DESCRIPTION:Come join us monthly for our Kids Fun Night/Parents Date Night!  This event is open to both membersand non-members for a small fee.  Drop your kids off with us for some fun arts and crafts\, movies\, etc while the adults go out for a nice quiet dinner or movie.
X-ALT-DESC;FMTTYPE=text/html:Come join us monthly for our Kids Fun Night/Parents Date Night!  This event is open to both membersand non-members for a small fee.  Drop your kids off with us for some fun arts and crafts\, movies\, etc while the adults go out for a nice quiet dinner or movie.
LOCATION:Brenda Athletic Clubs 200 Norwegian Ave Modesto\, CA 95350
UID:e.2695.1085
SEQUENCE:3
DTSTAMP:20260420T032714Z
URL:https://business.modchamber.org/events/details/kids-fun-night-parents-date-night-07-31-2015-1085
END:VEVENT

END:VCALENDAR
