BEGIN:VCALENDAR
VERSION:2.0
PRODID:-//ChamberMaster//Event Calendar 2.0//EN
METHOD:PUBLISH
X-PUBLISHED-TTL:P3D
REFRESH-INTERVAL:P3D
CALSCALE:GREGORIAN
BEGIN:VEVENT
DTSTART;VALUE=DATE:20160510
DTEND;VALUE=DATE:20160511
TRANSP:TRANSPARENT
X-MICROSOFT-CDO-ALLDAYEVENT:TRUE
SUMMARY:Kids Day 2016
DESCRIPTION:Kids' Day provides an opportunity for you to help local children. The Modesto Bee in partnership with The Salvation Army Red Shield Community Center\, is dedicating May 10\, 2016 to kids. Last year\, our Kids' Day efforts netted over $75\,000 to fund afterschool tutoring programs\, scouting troops\, summer day camp & camp\, basketball\, baseball and other sport programs.\n\nPurchase Kids' Day papers to distribute to your friends or customers.\n\nRemind your friends\, employees and neighbors to "have a $1.00 ready on May 10th!\nContact : 	Salvation Army\nPhone : 	(209) 522-3209\nEmail : 	\nWeb Site : 	www.salvationarmymodesto.org
X-ALT-DESC;FMTTYPE=text/html:Kids' Day provides an opportunity for you to help local children. The Modesto Bee in partnership with The Salvation Army Red Shield Community Center\, is dedicating May 10\, 2016 to kids. Last year\, our Kids' Day efforts netted over $75\,000 to fund afterschool tutoring programs\, scouting troops\, summer day camp & camp\, basketball\, baseball and other sport programs.\n\nPurchase Kids' Day papers to distribute to your friends or customers.\n\nRemind your friends\, employees and neighbors to "have a $1.00 ready on May 10th!\nContact : 	Salvation Army\nPhone : 	(209) 522-3209\nEmail : 	\nWeb Site : 	www.salvationarmymodesto.org\n\n
LOCATION:Various Locations
UID:e.2695.1638
SEQUENCE:3
DTSTAMP:20260419T140916Z
URL:https://business.modchamber.org/events/details/kids-day-2016-05-10-2016-1638
END:VEVENT

END:VCALENDAR
