BEGIN:VCALENDAR
VERSION:2.0
PRODID:-//ChamberMaster//Event Calendar 2.0//EN
METHOD:PUBLISH
X-PUBLISHED-TTL:P3D
REFRESH-INTERVAL:P3D
CALSCALE:GREGORIAN
BEGIN:VEVENT
DTSTART:20160424T030000Z
DTEND:20160423T070000Z
X-MICROSOFT-CDO-ALLDAYEVENT:FALSE
SUMMARY:KHOP PROM -i- COM
DESCRIPTION:Please call Maxi’s at 209-525-3075 for Dinner reservations.\n\nDinner service will be from 5pm to 830pm on Saturday April 23rd.\n\nPlease mention KHOP 95.1 for 25% of menu pricing. ($30.00 per person Inclusive)\n\nProm i Con tickets are included with dinner reservation & parking is free with dinner purchase.\n\nClub Blend doors open from 8pm to Midnight for Dancing and festivities.\n\nPlease call 209-525-3049 for room reservations.\n\nIt’s the ultimate date night for super-men & wonder-women! K-HOP’s PROM-i-CON! Listen to win your tickets and enter to win them below!\nContact : 	KHOP\nPhone : 	209-507-8500\nEmail : 	\nWeb Site : 	www.khop.com
X-ALT-DESC;FMTTYPE=text/html:Please call Maxi’s at 209-525-3075 for Dinner reservations.\n\nDinner service will be from 5pm to 830pm on Saturday April 23rd.\n\nPlease mention KHOP 95.1 for 25% of menu pricing. ($30.00 per person Inclusive)\n\nProm i Con tickets are included with dinner reservation & parking is free with dinner purchase.\n\nClub Blend doors open from 8pm to Midnight for Dancing and festivities.\n\nPlease call 209-525-3049 for room reservations.\n\nIt’s the ultimate date night for super-men & wonder-women! K-HOP’s PROM-i-CON! Listen to win your tickets and enter to win them below!\nContact : 	KHOP\nPhone : 	209-507-8500\nEmail : 	\nWeb Site : 	www.khop.com
LOCATION:Doubletree Hotel\, Inside Club Blend 1150 9th Street Modesto\, CA 95354
UID:e.2695.1627
SEQUENCE:3
DTSTAMP:20260419T140954Z
URL:https://business.modchamber.org/events/details/khop-prom-i-com-04-23-2016-1627
END:VEVENT

END:VCALENDAR
