BEGIN:VCALENDAR
VERSION:2.0
PRODID:-//ChamberMaster//Event Calendar 2.0//EN
METHOD:PUBLISH
X-PUBLISHED-TTL:P3D
REFRESH-INTERVAL:P3D
CALSCALE:GREGORIAN
BEGIN:VEVENT
DTSTART:20150731T023000Z
DTEND:20150730T070000Z
X-MICROSOFT-CDO-ALLDAYEVENT:FALSE
SUMMARY:Kenny Rogers
DESCRIPTION:Known for his instantly identifiable raspy vocals and an extraordinary ability to vividly inhabit each song he performs\, Kenny Rogers has enjoyed great success during his storied career of nearly five and a half decades. A groundbreaking recording artist\, distinctive vocalist and consummate entertainer\, this iconic superstar has endeared music lovers around the globe with his amazing songs\, heartfelt performances and rare storytelling ability. \n\nSponsored by Oak Valley Community Bank\nOak Valley Community Bank
X-ALT-DESC;FMTTYPE=text/html:Known for his instantly identifiable raspy vocals and an extraordinary ability to vividly inhabit each song he performs\, Kenny Rogers has enjoyed great success during his storied career of nearly five and a half decades. A groundbreaking recording artist\, distinctive vocalist and consummate entertainer\, this iconic superstar has endeared music lovers around the globe with his amazing songs\, heartfelt performances and rare storytelling ability. \n\nSponsored by Oak Valley Community Bank\nOak Valley Community Bank\n
LOCATION:Gallo Center 1000 I St Modesto\, CA 95354
UID:e.2695.1125
SEQUENCE:3
DTSTAMP:20260420T015755Z
URL:https://business.modchamber.org/events/details/kenny-rogers-07-30-2015-1125
END:VEVENT

END:VCALENDAR
