BEGIN:VCALENDAR
VERSION:2.0
PRODID:-//ChamberMaster//Event Calendar 2.0//EN
METHOD:PUBLISH
X-PUBLISHED-TTL:P3D
REFRESH-INTERVAL:P3D
CALSCALE:GREGORIAN
BEGIN:VEVENT
DTSTART:20151114T040000Z
DTEND:20151113T080000Z
X-MICROSOFT-CDO-ALLDAYEVENT:FALSE
SUMMARY:KATHLEEN MADIGAN
DESCRIPTION:Kathleen Madigan\nMadigan Again Tour\n\nKathleen Madigan is one of the most respected comedians of her generation. During her 25-year career she has performed scores of times on the talk shows of Leno\, Letterman\, Conan\, Ferguson and more. Her third hour-long special\, “Madigan Again\,” was named by iTunes as one of the Best Comedy Albums of 2013. She has released five CDs\, three DVDs and has starred in specials on Netflix\, Showtime\, HBO and Comedy Central. She delighted a Gallo Center two seasons ago\, and will once more as she brings her Madigan Again Tour to town. \n\nCaution: Adult themes and language.\nContact :	Gallo Center\nPhone :	209-338-2100\nEmail :	\nWeb Site :	galloarts.org
X-ALT-DESC;FMTTYPE=text/html:Kathleen Madigan\nMadigan Again Tour\n\nKathleen Madigan is one of the most respected comedians of her generation. During her 25-year career she has performed scores of times on the talk shows of Leno\, Letterman\, Conan\, Ferguson and more. Her third hour-long special\, “Madigan Again\,” was named by iTunes as one of the Best Comedy Albums of 2013. She has released five CDs\, three DVDs and has starred in specials on Netflix\, Showtime\, HBO and Comedy Central. She delighted a Gallo Center two seasons ago\, and will once more as she brings her Madigan Again Tour to town. \n\nCaution: Adult themes and language.\nContact :	Gallo Center\nPhone :	209-338-2100\nEmail :	\nWeb Site :	galloarts.org
LOCATION:Gallo Center 1000 I St Modesto\, CA 95354
UID:e.2695.1263
SEQUENCE:3
DTSTAMP:20260419T214450Z
URL:https://business.modchamber.org/events/details/kathleen-madigan-11-13-2015-1263
END:VEVENT

END:VCALENDAR
