BEGIN:VCALENDAR
VERSION:2.0
PRODID:-//ChamberMaster//Event Calendar 2.0//EN
METHOD:PUBLISH
X-PUBLISHED-TTL:P3D
REFRESH-INTERVAL:P3D
CALSCALE:GREGORIAN
BEGIN:VEVENT
DTSTART;VALUE=DATE:20150619
DTEND;VALUE=DATE:20150621
TRANSP:TRANSPARENT
X-MICROSOFT-CDO-ALLDAYEVENT:TRUE
SUMMARY:Juneteenth Celebration
DESCRIPTION:Friday 6:00pm - 8:00pm\nShowcase of Talent\n\nSaturday 10:30 - 12:00pm\nCelebration of Dads\; recognition ceremony for fathers of the year.\n12:00pm - 6:00pm\npresentation of dynamic guest speakers\, inspirational gospel singers\, bands\, cultural performances\, educational exhibits\, black business expo\, community resource information boots and children activities.\nContact :	\nPhone :	(209) 522-6902.\nEmail :	\nWeb Site :
X-ALT-DESC;FMTTYPE=text/html:Friday 6:00pm - 8:00pm\nShowcase of Talent\n\nSaturday 10:30 - 12:00pm\nCelebration of Dads\; recognition ceremony for fathers of the year.\n12:00pm - 6:00pm\npresentation of dynamic guest speakers\, inspirational gospel singers\, bands\, cultural performances\, educational exhibits\, black business expo\, community resource information boots and children activities.\nContact :	\nPhone :	(209) 522-6902.\nEmail :	\nWeb Site :	
LOCATION:King-Kennedy Memorial Center at Mellis Park 601 Martin Luther King Dr Modesto\, CA 95351
UID:e.2695.1004
SEQUENCE:3
DTSTAMP:20260420T032253Z
URL:https://business.modchamber.org/events/details/juneteenth-celebration-06-19-2015-1004
END:VEVENT

END:VCALENDAR
