BEGIN:VCALENDAR
VERSION:2.0
PRODID:-//ChamberMaster//Event Calendar 2.0//EN
METHOD:PUBLISH
X-PUBLISHED-TTL:P3D
REFRESH-INTERVAL:P3D
CALSCALE:GREGORIAN
BEGIN:VEVENT
DTSTART:20160508T030000Z
DTEND:20160508T070000Z
X-MICROSOFT-CDO-ALLDAYEVENT:FALSE
SUMMARY:Joseph and the Amazing Technicolor Dreamcoat
DESCRIPTION:One of the most enduring shows of all time\, Tim Rice and Andrew Lloyd Webber's "Joseph and the Amazing Technicolor Dreamcoat" is the irresistible family musical about the trials and triumphs of Joseph\, Israel\;s favorite son. Directed and choreographed by Tony award-Winner Andy Blankenbuehler\, this new production is a reimagining of the Biblical story of Joseph\, his eleven brothers and he coat of many colors. The magical musical is full of unforgettable songs\, including "Go Go Go Joseph\," "Any Dream Will Do" and "Close Every Door."\nContact :	Gallo Center\nPhone :	209-338-3102\nEmail :	\nWeb Site :	galloarts.org
X-ALT-DESC;FMTTYPE=text/html:One of the most enduring shows of all time\, Tim Rice and Andrew Lloyd Webber's "Joseph and the Amazing Technicolor Dreamcoat" is the irresistible family musical about the trials and triumphs of Joseph\, Israel\;s favorite son. Directed and choreographed by Tony award-Winner Andy Blankenbuehler\, this new production is a reimagining of the Biblical story of Joseph\, his eleven brothers and he coat of many colors. The magical musical is full of unforgettable songs\, including "Go Go Go Joseph\," "Any Dream Will Do" and "Close Every Door."\nContact :	Gallo Center\nPhone :	209-338-3102\nEmail :	\nWeb Site :	galloarts.org
LOCATION:Gallo Center 1000 I St Modesto\, CA 95354
UID:e.2695.1362
SEQUENCE:3
DTSTAMP:20260419T125007Z
URL:https://business.modchamber.org/events/details/joseph-and-the-amazing-technicolor-dreamcoat-05-07-2016-1362
END:VEVENT

END:VCALENDAR
