BEGIN:VCALENDAR
VERSION:2.0
PRODID:-//ChamberMaster//Event Calendar 2.0//EN
METHOD:PUBLISH
X-PUBLISHED-TTL:P3D
REFRESH-INTERVAL:P3D
CALSCALE:GREGORIAN
BEGIN:VEVENT
DTSTART:20141009T160000Z
DTEND:20141009T190000Z
X-MICROSOFT-CDO-ALLDAYEVENT:FALSE
SUMMARY:Job Fair - Make Connections
DESCRIPTION:Make connections at our Job Fair.  *Employers*Education *Raffles*Free Tours*Free Parking
X-ALT-DESC;FMTTYPE=text/html:<DIV style="FONT-FAMILY: Arial">Make connections at our Job Fair. </DIV><DIV style="FONT-FAMILY: Arial">&nbsp\;</DIV><DIV style="FONT-FAMILY: Arial">*Employers</DIV><DIV style="FONT-FAMILY: Arial">*Education </DIV><DIV style="FONT-FAMILY: Arial">*Raffles</DIV><DIV style="FONT-FAMILY: Arial">*Free Tours</DIV><DIV style="FONT-FAMILY: Arial">*Free Parking </DIV>
LOCATION:Institute of Technology 5601 Stoddard Road Modesto\, CA 95356
UID:e.2695.574
SEQUENCE:3
DTSTAMP:20260422T165152Z
URL:https://business.modchamber.org/events/details/job-fair-make-connections-10-09-2014-574
END:VEVENT

END:VCALENDAR
