BEGIN:VCALENDAR
VERSION:2.0
PRODID:-//ChamberMaster//Event Calendar 2.0//EN
METHOD:PUBLISH
X-PUBLISHED-TTL:P3D
REFRESH-INTERVAL:P3D
CALSCALE:GREGORIAN
BEGIN:VEVENT
DTSTART:20150913T220000Z
DTEND:20150914T000000Z
X-MICROSOFT-CDO-ALLDAYEVENT:FALSE
SUMMARY:Jim Curry: A Tribute to John Denver
DESCRIPTION:Jim Curry will perform many of John Denver's legacy of hits.
X-ALT-DESC;FMTTYPE=text/html:Jim Curry will perform many of John Denver's legacy of hits.
LOCATION:Gallo Center for the Arts 1000 I Street Modesto\, CA 95351
UID:e.2695.1144
SEQUENCE:3
DTSTAMP:20260420T003322Z
URL:https://business.modchamber.org/events/details/jim-curry-a-tribute-to-john-denver-09-13-2015-1144
END:VEVENT

END:VCALENDAR
