BEGIN:VCALENDAR
VERSION:2.0
PRODID:-//ChamberMaster//Event Calendar 2.0//EN
METHOD:PUBLISH
X-PUBLISHED-TTL:P3D
REFRESH-INTERVAL:P3D
CALSCALE:GREGORIAN
BEGIN:VEVENT
DTSTART:20160320T023000Z
DTEND:20160319T070000Z
X-MICROSOFT-CDO-ALLDAYEVENT:FALSE
SUMMARY:Jewish Comedy Night & Wine Tasting
DESCRIPTION:Italian\, African American\, Indian & Vietnamese American Jewish stand-up comedians Mike Capozzola\, Gina Gold\, Samson Koletkar & Joe Nguyen will share the stage and their own experiences about being 'undercover' members of the tribe! The show has sold out performances in the USA & Canada.\n\nTickets $25.00/ Advance or $30.00 at the door.\nContact : 	Congregation Beth Shalom\nPhone : 	209-571-6060\nEmail : 	\nWeb Site :
X-ALT-DESC;FMTTYPE=text/html:Italian\, African American\, Indian & Vietnamese American Jewish stand-up comedians Mike Capozzola\, Gina Gold\, Samson Koletkar & Joe Nguyen will share the stage and their own experiences about being 'undercover' members of the tribe! The show has sold out performances in the USA & Canada.\n\nTickets $25.00/ Advance or $30.00 at the door.\nContact : 	Congregation Beth Shalom\nPhone : 	209-571-6060\nEmail : 	\nWeb Site :
LOCATION:Congregation Beth Shalom 1705 Sherwood Ave Modesto\, CA 95350
UID:e.2695.1569
SEQUENCE:3
DTSTAMP:20260419T154258Z
URL:https://business.modchamber.org/events/details/jewish-comedy-night-wine-tasting-03-19-2016-1569
END:VEVENT

END:VCALENDAR
