BEGIN:VCALENDAR
VERSION:2.0
PRODID:-//ChamberMaster//Event Calendar 2.0//EN
METHOD:PUBLISH
X-PUBLISHED-TTL:P3D
REFRESH-INTERVAL:P3D
CALSCALE:GREGORIAN
BEGIN:VEVENT
DTSTART:20160516T020000Z
DTEND:20160515T070000Z
X-MICROSOFT-CDO-ALLDAYEVENT:FALSE
SUMMARY:JEWEL
DESCRIPTION:Singer-songwriter\, guitarist\, producer\, actress\, and author/poet Jewel will make her Gallo Center debut as she embarks on her national “Picking Up the Pieces” tour. The much honored artist\, who has sold more than 27 million albums worldwide\, is touring in support of what she describes as her first “proper” album of new studio material in five years and a self-described return to the territory explored on her landmark 1995 debut\, “Pieces of You.” Over the course of the album\, also titled “Picking Up the Pieces\,” Jewel conveys the emotional turmoil of life during its most difficult and challenging moments. With a vast and wide-ranging catalogue approaching 1\,000 songs\, Jewel has become one of the premiere singer-songwriters of our time.\nContact : 	Gallo Center\nPhone : 	209-338-2100\nEmail : 	\nWeb Site : 	galloarts.org
X-ALT-DESC;FMTTYPE=text/html:Singer-songwriter\, guitarist\, producer\, actress\, and author/poet Jewel will make her Gallo Center debut as she embarks on her national “Picking Up the Pieces” tour. The much honored artist\, who has sold more than 27 million albums worldwide\, is touring in support of what she describes as her first “proper” album of new studio material in five years and a self-described return to the territory explored on her landmark 1995 debut\, “Pieces of You.” Over the course of the album\, also titled “Picking Up the Pieces\,” Jewel conveys the emotional turmoil of life during its most difficult and challenging moments. With a vast and wide-ranging catalogue approaching 1\,000 songs\, Jewel has become one of the premiere singer-songwriters of our time.\nContact : 	Gallo Center\nPhone : 	209-338-2100\nEmail : 	\nWeb Site : 	galloarts.org
LOCATION:Gallo Center 1000 I Street Modesto\, CA 95354
UID:e.2695.1641
SEQUENCE:3
DTSTAMP:20260419T124713Z
URL:https://business.modchamber.org/events/details/jewel-05-15-2016-1641
END:VEVENT

END:VCALENDAR
