BEGIN:VCALENDAR
VERSION:2.0
PRODID:-//ChamberMaster//Event Calendar 2.0//EN
METHOD:PUBLISH
X-PUBLISHED-TTL:P3D
REFRESH-INTERVAL:P3D
CALSCALE:GREGORIAN
BEGIN:VEVENT
DTSTART:20150308T220000Z
DTEND:20150308T080000Z
X-MICROSOFT-CDO-ALLDAYEVENT:FALSE
SUMMARY:Jessica Leash\, Cantorial Soloist
DESCRIPTION:This cantorial soloist has the inspirational voice of an angel with the power to soar above a thousand other singers. Throughout the weekend she will explore the world of Jewish Renewal music and share the beauty of inspirational and educational genres from around the world.\nContact :	Congregation Beth Shalom\nPhone :	(209) 571-6060\nEmail :	\nWeb Site :	www.cbsmodesto.org
X-ALT-DESC;FMTTYPE=text/html:This cantorial soloist has the inspirational voice of an angel with the power to soar above a thousand other singers. Throughout the weekend she will explore the world of Jewish Renewal music and share the beauty of inspirational and educational genres from around the world.\nContact :	Congregation Beth Shalom\nPhone :	(209) 571-6060\nEmail :	\nWeb Site :	www.cbsmodesto.org
LOCATION:CBS Courtyard - Congregation Beth Shalom 1705 Sherwood Ave Modesto\, CA 95350
UID:e.2695.788
SEQUENCE:3
DTSTAMP:20260420T074137Z
URL:https://business.modchamber.org/events/details/jessica-leash-cantorial-soloist-03-08-2015-788
END:VEVENT

END:VCALENDAR
