BEGIN:VCALENDAR
VERSION:2.0
PRODID:-//ChamberMaster//Event Calendar 2.0//EN
METHOD:PUBLISH
X-PUBLISHED-TTL:P3D
REFRESH-INTERVAL:P3D
CALSCALE:GREGORIAN
BEGIN:VEVENT
DTSTART;VALUE=DATE:20160305
DTEND;VALUE=DATE:20160306
TRANSP:TRANSPARENT
X-MICROSOFT-CDO-ALLDAYEVENT:TRUE
SUMMARY:Jazz in the Valley Fundraiser-Women's Auxiliary
DESCRIPTION:“Jazz in the Valley”\n\nBlack Tie\n\nDinner\, dancing\, auction\n\nSpecial guest Roger Smith from Tower of Power\n\nTickets $60\nContact :	Synthia Loften\nPhone :	(209) 543-5769\nEmail :	\nWeb Site :
X-ALT-DESC;FMTTYPE=text/html:“Jazz in the Valley”\n\nBlack Tie\n\nDinner\, dancing\, auction\n\nSpecial guest Roger Smith from Tower of Power\n\nTickets $60\nContact :	Synthia Loften\nPhone :	(209) 543-5769\nEmail :	\nWeb Site :	
LOCATION:The Century Event Center 927 10th Street Modesto\, CA 95354
UID:e.2695.1454
SEQUENCE:3
DTSTAMP:20260419T154629Z
URL:https://business.modchamber.org/events/details/jazz-in-the-valley-fundraiser-women-s-auxiliary-03-05-2016-1454
END:VEVENT

END:VCALENDAR
