BEGIN:VCALENDAR
VERSION:2.0
PRODID:-//ChamberMaster//Event Calendar 2.0//EN
METHOD:PUBLISH
X-PUBLISHED-TTL:P3D
REFRESH-INTERVAL:P3D
CALSCALE:GREGORIAN
BEGIN:VEVENT
DTSTART:20160417T220000Z
DTEND:20160418T000000Z
X-MICROSOFT-CDO-ALLDAYEVENT:FALSE
SUMMARY:Jayme Stone: Award winning banjoist
DESCRIPTION:Jaime makes music inspired by sounds from around the world.  He bridges folk\, jazz and chamber music.  He shows why the banjo has held a long role in the world of music\, turning historical connectionsinto compelling music.
X-ALT-DESC;FMTTYPE=text/html:Jaime makes music inspired by sounds from around the world.  He bridges folk\, jazz and chamber music.  He shows why the banjo has held a long role in the world of music\, turning historical connectionsinto compelling music.
LOCATION:Gallo Center for the Arts 1000 I Street Modesto\, CA 95351
UID:e.2695.1148
SEQUENCE:3
DTSTAMP:20260419T152816Z
URL:https://business.modchamber.org/events/details/jayme-stone-award-winning-banjoist-04-17-2016-1148
END:VEVENT

END:VCALENDAR
