BEGIN:VCALENDAR
VERSION:2.0
PRODID:-//ChamberMaster//Event Calendar 2.0//EN
METHOD:PUBLISH
X-PUBLISHED-TTL:P3D
REFRESH-INTERVAL:P3D
CALSCALE:GREGORIAN
BEGIN:VEVENT
DTSTART:20151025T030000Z
DTEND:20151024T070000Z
X-MICROSOFT-CDO-ALLDAYEVENT:FALSE
SUMMARY:JAY AND THE AMERICANS
DESCRIPTION:Jay and the Americans / The Association\n\nThese two blasts from the past were virtual hit machines in the 1960s and 1970s\, recording songs that became instant classics and received never-ending radio play (even today!). Remember? Jay and The Americans: “She Cried\,” “Come A Little Bit Closer\,” “Cara Mia\,” “Some Enchanted Evening\,” and “This Magic Moment.” The Association: “Never My Love\,” “Cherish\,” “Never My Love\,” “Windy\,” and “Along Came Mary.” They are two of the best vocal groups ever\, with combined sales of millions upon millions of records. Oh my\, what memories this show will evoke!\nContact :	Gallo Center\nPhone :	209-338-2100\nEmail :	\nWeb Site :	galloarts.org
X-ALT-DESC;FMTTYPE=text/html:Jay and the Americans / The Association\n\nThese two blasts from the past were virtual hit machines in the 1960s and 1970s\, recording songs that became instant classics and received never-ending radio play (even today!). Remember? Jay and The Americans: “She Cried\,” “Come A Little Bit Closer\,” “Cara Mia\,” “Some Enchanted Evening\,” and “This Magic Moment.” The Association: “Never My Love\,” “Cherish\,” “Never My Love\,” “Windy\,” and “Along Came Mary.” They are two of the best vocal groups ever\, with combined sales of millions upon millions of records. Oh my\, what memories this show will evoke!\nContact :	Gallo Center\nPhone :	209-338-2100\nEmail :	\nWeb Site :	galloarts.org
LOCATION:Gallo Center 1000 I St Modesto\, CA 95354
UID:e.2695.1244
SEQUENCE:3
DTSTAMP:20260419T214507Z
URL:https://business.modchamber.org/events/details/jay-and-the-americans-10-24-2015-1244
END:VEVENT

END:VCALENDAR
