BEGIN:VCALENDAR
VERSION:2.0
PRODID:-//ChamberMaster//Event Calendar 2.0//EN
METHOD:PUBLISH
X-PUBLISHED-TTL:P3D
REFRESH-INTERVAL:P3D
CALSCALE:GREGORIAN
BEGIN:VEVENT
DTSTART:20151115T230000Z
DTEND:20151116T010000Z
X-MICROSOFT-CDO-ALLDAYEVENT:FALSE
SUMMARY:Jan Daley: Where There's HOPE: A Tribute to the Love Songs
DESCRIPTION:Miss Daley toured with Bob Hope and shares fun-filled stories\, touching photos\, amazing film clips and show-stopping songs from Hope's movie and Broadway musicals.
X-ALT-DESC;FMTTYPE=text/html:Miss Daley toured with Bob Hope and shares fun-filled stories\, touching photos\, amazing film clips and show-stopping songs from Hope's movie and Broadway musicals.
LOCATION:Gallo Center for the Arts 1000 I Street Modesto\, CA 95351
UID:e.2695.1145
SEQUENCE:3
DTSTAMP:20260419T204022Z
URL:https://business.modchamber.org/events/details/jan-daley-where-there-s-hope-a-tribute-to-the-love-songs-11-15-2015-1145
END:VEVENT

END:VCALENDAR
